BEGIN:VCALENDAR
VERSION:2.0
PRODID:-//InvisionCommunity Events 4.7.14//EN
METHOD:PUBLISH
CALSCALE:GREGORIAN
REFRESH-INTERVAL:PT15M
X-PUBLISHED-TTL:PT15M
X-WR-CALNAME:The Elder Scrolls Online
NAME:The Elder Scrolls Online
BEGIN:VTIMEZONE
TZID:Europe/London
TZURL:http://tzurl.org/zoneinfo/Europe/London
X-LIC-LOCATION:Europe/London
BEGIN:DAYLIGHT
TZOFFSETFROM:+0000
TZOFFSETTO:+0100
TZNAME:BST
DTSTART:20250330T020000Z
RRULE:FREQ=YEARLY;BYMONTH=3;BYDAY=-1SU
END:DAYLIGHT
BEGIN:STANDARD
TZOFFSETFROM:+0100
TZOFFSETTO:+0000
TZNAME:GMT
DTSTART:20251026T020000Z
RRULE:FREQ=YEARLY;BYMONTH=10;BYDAY=-1SU
END:STANDARD
END:VTIMEZONE
BEGIN:VEVENT
SUMMARY:Ветеранское испытание Клаудрест
	 +2 (vCR +2)
DTSTAMP:20250117T175425Z
SEQUENCE:0
UID:14013-1-afb15bc42254ad5fb0481ce5e9c8144d@forum.bandits-clan.ru
ORGANIZER;CN="Bandit":web@bandits-clan.ru
DESCRIPTION:Обучающий рейд. С
	бор за 10 минут до начала ре
	йда. \n**Требования:**\n- Знание м
	еханик vCR+1\n- Запись в **Ростер**\n- ДПС
	 от 10 тыс.\n- Аддон HowToCloudrest\n- Аддон Lock Weap
	on Swap\n- Аддон OdySupportIcons - Group Role Icons & More\n- Ад
	дон CrutchAlerts\n- Аддон Improved Death Rec
	ap\n- Дополнение Самме
	рсет или подписка\n \n
	Плановое время рейда
	: 2 часа 5 минут\n \n Записаться на событие 
	и принять участие
DTSTART:20250124T160000Z
DTEND:20250124T160500Z
END:VEVENT
END:VCALENDAR
