BEGIN:VCALENDAR
VERSION:2.0
PRODID:-//InvisionCommunity Events 4.7.14//EN
METHOD:PUBLISH
CALSCALE:GREGORIAN
REFRESH-INTERVAL:PT15M
X-PUBLISHED-TTL:PT15M
X-WR-CALNAME:The Elder Scrolls Online
NAME:The Elder Scrolls Online
BEGIN:VTIMEZONE
TZID:Europe/London
TZURL:http://tzurl.org/zoneinfo/Europe/London
X-LIC-LOCATION:Europe/London
BEGIN:DAYLIGHT
TZOFFSETFROM:+0000
TZOFFSETTO:+0100
TZNAME:BST
DTSTART:20250330T020000Z
RRULE:FREQ=YEARLY;BYMONTH=3;BYDAY=-1SU
END:DAYLIGHT
BEGIN:STANDARD
TZOFFSETFROM:+0100
TZOFFSETTO:+0000
TZNAME:GMT
DTSTART:20251026T020000Z
RRULE:FREQ=YEARLY;BYMONTH=10;BYDAY=-1SU
END:STANDARD
END:VTIMEZONE
BEGIN:VEVENT
SUMMARY:Ветеранское испытание Клаудрест
	 +2 (vCR +2)
DTSTAMP:20250112T143948Z
SEQUENCE:0
UID:13992-1-afb15bc42254ad5fb0481ce5e9c8144d@forum.bandits-clan.ru
ORGANIZER;CN="Bandit":web@bandits-clan.ru
DESCRIPTION:Обучающий рейд. С
	бор за 10 минут до нача
	ла рейда. \n**Требования:
	**\n- прочитать и записатьс
	я в **ростер**  в ветке под рейдом\n- 
	ДПС от 100 тыс.\n- Аддон HowToCloudrest\n- Аддон Lo
	ck Weapon Swap\n- Аддон OdySupportIcons - Group Role Icons & Mor
	e\n- Аддон CrutchAlerts\n- Аддон Improved Death 
	Recap\n- Дополнение Сам
	мерсет или подписк
	а\n \nПлановое врем
	я рейда: 2 часа 5 минут Записаться н
	а событие и принять участие
DTSTART:20250117T160000Z
DTEND:20250117T160500Z
END:VEVENT
END:VCALENDAR
