BEGIN:VCALENDAR
VERSION:2.0
PRODID:-//InvisionCommunity Events 4.7.14//EN
METHOD:PUBLISH
CALSCALE:GREGORIAN
REFRESH-INTERVAL:PT15M
X-PUBLISHED-TTL:PT15M
X-WR-CALNAME:The Elder Scrolls Online
NAME:The Elder Scrolls Online
BEGIN:VTIMEZONE
TZID:Europe/London
TZURL:http://tzurl.org/zoneinfo/Europe/London
X-LIC-LOCATION:Europe/London
BEGIN:DAYLIGHT
TZOFFSETFROM:+0000
TZOFFSETTO:+0100
TZNAME:BST
DTSTART:20250330T020000Z
RRULE:FREQ=YEARLY;BYMONTH=3;BYDAY=-1SU
END:DAYLIGHT
BEGIN:STANDARD
TZOFFSETFROM:+0100
TZOFFSETTO:+0000
TZNAME:GMT
DTSTART:20251026T020000Z
RRULE:FREQ=YEARLY;BYMONTH=10;BYDAY=-1SU
END:STANDARD
END:VTIMEZONE
BEGIN:VEVENT
SUMMARY:Ветеран
	ское испытание Риф Зло
	вещих Парусов Усложнение на всех боссах 
	(vDSR HM+3)
DTSTAMP:20250109T150225Z
SEQUENCE:0
UID:13990-1-afb15bc42254ad5fb0481ce5e9c8144d@forum.bandits-clan.ru
ORGANIZER;CN="Bandit":web@bandits-clan.ru
DESCRIPTION:Закрываем да
	льше. Приоритет предыдущему
	 составу.  \n**Требования:**\n- Звание Supe
	rior Bandit\n- ДПС от 110 тыс.\n- Аддон Qcell's Dreadsail Re
	ef Helper\n- Аддон Qcell's DSRHelper. LangPatch\
	n- Дополнение Высоки
	й Остров или подписка\n
	 \nПлановое время рейд
	а: 2-3 часа\n \n Записаться на событие
	 и принять участие
DTSTART:20250112T120000Z
DTEND:20250112T120500Z
END:VEVENT
END:VCALENDAR
