BEGIN:VCALENDAR
VERSION:2.0
PRODID:-//InvisionCommunity Events 4.7.14//EN
METHOD:PUBLISH
CALSCALE:GREGORIAN
REFRESH-INTERVAL:PT15M
X-PUBLISHED-TTL:PT15M
X-WR-CALNAME:The Elder Scrolls Online
NAME:The Elder Scrolls Online
BEGIN:VTIMEZONE
TZID:Europe/London
TZURL:http://tzurl.org/zoneinfo/Europe/London
X-LIC-LOCATION:Europe/London
BEGIN:DAYLIGHT
TZOFFSETFROM:+0000
TZOFFSETTO:+0100
TZNAME:BST
DTSTART:20250330T020000Z
RRULE:FREQ=YEARLY;BYMONTH=3;BYDAY=-1SU
END:DAYLIGHT
BEGIN:STANDARD
TZOFFSETFROM:+0100
TZOFFSETTO:+0000
TZNAME:GMT
DTSTART:20251026T020000Z
RRULE:FREQ=YEARLY;BYMONTH=10;BYDAY=-1SU
END:STANDARD
END:VTIMEZONE
BEGIN:VEVENT
SUMMARY:Ветеранско
	е испытание Эгида Кин Усложнение н
	а всех боссах (vKA HM+3)
DTSTAMP:20241230T055404Z
SEQUENCE:0
UID:13969-1-afb15bc42254ad5fb0481ce5e9c8144d@forum.bandits-clan.ru
ORGANIZER;CN="Bandit":web@bandits-clan.ru
DESCRIPTION:Рейд статика suicide-squa
	dСбор за 10 минут до начала рейда.
	\n \n**Требования:**\n- Звание Superior Bandi
	t\n- ДПС от 110 тыс.\n- Аддон BSCs-HowToKyn
	esAegis\n- Дополнение Гре
	ймур или подписка\n \n
	Плановое время рейда
	: 2 часа 5 минут\n \n Записаться на событие 
	и принять участие
DTSTART:20250102T160000Z
DTEND:20250102T160500Z
END:VEVENT
END:VCALENDAR
