BEGIN:VCALENDAR
VERSION:2.0
PRODID:-//InvisionCommunity Events 4.7.14//EN
METHOD:PUBLISH
CALSCALE:GREGORIAN
REFRESH-INTERVAL:PT15M
X-PUBLISHED-TTL:PT15M
X-WR-CALNAME:The Elder Scrolls Online
NAME:The Elder Scrolls Online
BEGIN:VTIMEZONE
TZID:Europe/London
TZURL:http://tzurl.org/zoneinfo/Europe/London
X-LIC-LOCATION:Europe/London
BEGIN:DAYLIGHT
TZOFFSETFROM:+0000
TZOFFSETTO:+0100
TZNAME:BST
DTSTART:20240331T020000Z
RRULE:FREQ=YEARLY;BYMONTH=3;BYDAY=-1SU
END:DAYLIGHT
BEGIN:STANDARD
TZOFFSETFROM:+0100
TZOFFSETTO:+0000
TZNAME:GMT
DTSTART:20241027T020000Z
RRULE:FREQ=YEARLY;BYMONTH=10;BYDAY=-1SU
END:STANDARD
END:VTIMEZONE
BEGIN:VEVENT
SUMMARY:Ветеранское испытание Клаудрест
	 +1 (vCR +1)
DTSTAMP:20241223T151747Z
SEQUENCE:0
UID:13956-1-afb15bc42254ad5fb0481ce5e9c8144d@forum.bandits-clan.ru
ORGANIZER;CN="Bandit":web@bandits-clan.ru
DESCRIPTION:Тестовый рейд. 
	Сбор за 10 минут 
	до начала рейда
	.\nИдём учить са
	ппортов скипать
	 Галю на добивани
	и.\nЗадача: пробить до
	 добивания за 0 порталов\n(
	возможен переход на +2)\n
	\n**Требования:**\n- Вс
	ем ДД всё знать и
	 всё уметь\n- Указать 
	желаемую позицию в ростере в вет
	ке\n- ДПС от 115 тыс.\n- Аддон HowToCloudrest\n- Аддон
	 Lock Weapon Swap\n- Аддон OdySupportIcons - Group Role Icons & Mor
	e\n- Аддон CrutchAlerts\n- Допо
	лнение Саммерсет ил
	и подписка\n \nПлано
	вое время рейда: 1 час
	 50 минут Записаться на событие и прин
	ять участие
DTSTART:20241227T170000Z
DTEND:20241227T170500Z
END:VEVENT
END:VCALENDAR
