BEGIN:VCALENDAR
VERSION:2.0
PRODID:-//InvisionCommunity Events 4.7.14//EN
METHOD:PUBLISH
CALSCALE:GREGORIAN
REFRESH-INTERVAL:PT15M
X-PUBLISHED-TTL:PT15M
X-WR-CALNAME:The Elder Scrolls Online
NAME:The Elder Scrolls Online
BEGIN:VTIMEZONE
TZID:Europe/London
TZURL:http://tzurl.org/zoneinfo/Europe/London
X-LIC-LOCATION:Europe/London
BEGIN:DAYLIGHT
TZOFFSETFROM:+0000
TZOFFSETTO:+0100
TZNAME:BST
DTSTART:20240331T020000Z
RRULE:FREQ=YEARLY;BYMONTH=3;BYDAY=-1SU
END:DAYLIGHT
BEGIN:STANDARD
TZOFFSETFROM:+0100
TZOFFSETTO:+0000
TZNAME:GMT
DTSTART:20241027T020000Z
RRULE:FREQ=YEARLY;BYMONTH=10;BYDAY=-1SU
END:STANDARD
END:VTIMEZONE
BEGIN:VEVENT
SUMMARY:Ветеранское испытание Клаудрест
	 +3 (vCR +3)
DTSTAMP:20241223T140206Z
SEQUENCE:0
UID:13954-1-afb15bc42254ad5fb0481ce5e9c8144d@forum.bandits-clan.ru
ORGANIZER;CN="Bandit":web@bandits-clan.ru
DESCRIPTION:Опен прогресс з
	а 0 порталов. Сбор з
	а 10 минут до нач
	ала рейда. \nПриоритет 
	людям с трифектой\nПриоритет учас
	тникам Bandits Elite до 25.12.24\n(рол
	и хилов и танков заняты)
	\n\n**Требования:**\n- Ч
	итать ростер в ветке\, 
	указать желаемую позицию\n- ДПС от 1
	20 тыс.\n- Аддон HowToCloudrest\n- Аддон Lock Weapon Swa
	p\n- Аддон OdySupportIcons - Group Role Icons & More\n- Аддон Cr
	utchAlerts\n- Дополнение С
	аммерсет или подписка\n
	 \nПлановое время рейда
	: 1 час 55 минут\n \n Записаться на событие и
	 принять участие
DTSTART:20241228T180000Z
DTEND:20241228T180500Z
END:VEVENT
END:VCALENDAR
