BEGIN:VCALENDAR
VERSION:2.0
PRODID:-//InvisionCommunity Events 4.7.14//EN
METHOD:PUBLISH
CALSCALE:GREGORIAN
REFRESH-INTERVAL:PT15M
X-PUBLISHED-TTL:PT15M
X-WR-CALNAME:The Elder Scrolls Online
NAME:The Elder Scrolls Online
BEGIN:VTIMEZONE
TZID:Europe/London
TZURL:http://tzurl.org/zoneinfo/Europe/London
X-LIC-LOCATION:Europe/London
BEGIN:DAYLIGHT
TZOFFSETFROM:+0000
TZOFFSETTO:+0100
TZNAME:BST
DTSTART:20240331T020000Z
RRULE:FREQ=YEARLY;BYMONTH=3;BYDAY=-1SU
END:DAYLIGHT
BEGIN:STANDARD
TZOFFSETFROM:+0100
TZOFFSETTO:+0000
TZNAME:GMT
DTSTART:20241027T020000Z
RRULE:FREQ=YEARLY;BYMONTH=10;BYDAY=-1SU
END:STANDARD
END:VTIMEZONE
BEGIN:VEVENT
SUMMARY:Сиродиил кампания с Очками Героя
DTSTAMP:20241130T214110Z
SEQUENCE:0
UID:13858-1-afb15bc42254ad5fb0481ce5e9c8144d@forum.bandits-clan.ru
ORGANIZER;CN="Bandit":web@bandits-clan.ru
DESCRIPTION:Статик рейд в ком
	панию Серая рать.\n**Т
	ребования:**\n- Альянс
	 - Даггерфолл Ковенан
	та\n- Персонаж от 160 о
	чков героя\n- Собранный бил
	д под рейд\n- Накидка гильдии 
	Bandits\n\n**Приоритет:**\n- Состоящим в гиль
	дии Daggerfall Bandits\n- Участни
	кам прошлого рейда\
	n- Игрокам\, с собранными
	 билдами.\n\nБилды и всё обсуждение тут: ⁠h
	ttps://discord.com/channels/156981162668064768/1300216436693925939 
	Записаться на событие и принять участие
DTSTART:20241204T170000Z
DTEND:20241204T170500Z
END:VEVENT
END:VCALENDAR
