BEGIN:VCALENDAR
VERSION:2.0
PRODID:-//InvisionCommunity Events 4.7.14//EN
METHOD:PUBLISH
CALSCALE:GREGORIAN
REFRESH-INTERVAL:PT15M
X-PUBLISHED-TTL:PT15M
X-WR-CALNAME:The Elder Scrolls Online
NAME:The Elder Scrolls Online
BEGIN:VTIMEZONE
TZID:Europe/London
TZURL:http://tzurl.org/zoneinfo/Europe/London
X-LIC-LOCATION:Europe/London
BEGIN:DAYLIGHT
TZOFFSETFROM:+0000
TZOFFSETTO:+0100
TZNAME:BST
DTSTART:20240331T020000Z
RRULE:FREQ=YEARLY;BYMONTH=3;BYDAY=-1SU
END:DAYLIGHT
BEGIN:STANDARD
TZOFFSETFROM:+0100
TZOFFSETTO:+0000
TZNAME:GMT
DTSTART:20241027T020000Z
RRULE:FREQ=YEARLY;BYMONTH=10;BYDAY=-1SU
END:STANDARD
END:VTIMEZONE
BEGIN:VEVENT
SUMMARY:Ветеранско
	е испытание Эгида Кин Усложнение н
	а всех боссах (vKA HM+3)
DTSTAMP:20241125T102212Z
SEQUENCE:0
UID:13846-1-afb15bc42254ad5fb0481ce5e9c8144d@forum.bandits-clan.ru
ORGANIZER;CN="Bandit":web@bandits-clan.ru
DESCRIPTION:Всем все зн
	ать и уметь\, мин
	имум объяснений.
	 Собираем прогресс па
	ти! Сбор за 10 минут до начала р
	ейда.\n \n**Требования:**\n- Звание Superior B
	andit\n- ДПС от 110 тыс.\n- Аддон BSCs-HowToKynesAegis\n
	- Аддон CrutchAlerts\n- Аддон Odysupportic
	ons\n- Дополнение Грейму
	р или подписка\n \nПлан
	овое время рейда: 2 
	часа 5 минут\n \n Записаться на событие
	 и принять участие
DTSTART:20241128T160000Z
DTEND:20241128T160500Z
END:VEVENT
END:VCALENDAR
