BEGIN:VCALENDAR
VERSION:2.0
PRODID:-//InvisionCommunity Events 4.7.14//EN
METHOD:PUBLISH
CALSCALE:GREGORIAN
REFRESH-INTERVAL:PT15M
X-PUBLISHED-TTL:PT15M
X-WR-CALNAME:The Elder Scrolls Online
NAME:The Elder Scrolls Online
BEGIN:VTIMEZONE
TZID:Europe/London
TZURL:http://tzurl.org/zoneinfo/Europe/London
X-LIC-LOCATION:Europe/London
BEGIN:DAYLIGHT
TZOFFSETFROM:+0000
TZOFFSETTO:+0100
TZNAME:BST
DTSTART:20240331T020000Z
RRULE:FREQ=YEARLY;BYMONTH=3;BYDAY=-1SU
END:DAYLIGHT
BEGIN:STANDARD
TZOFFSETFROM:+0100
TZOFFSETTO:+0000
TZNAME:GMT
DTSTART:20241027T020000Z
RRULE:FREQ=YEARLY;BYMONTH=10;BYDAY=-1SU
END:STANDARD
END:VTIMEZONE
BEGIN:VEVENT
SUMMARY:Сиродиил кампания с Очками Героя
DTSTAMP:20241121T090914Z
SEQUENCE:0
UID:13838-1-afb15bc42254ad5fb0481ce5e9c8144d@forum.bandits-clan.ru
ORGANIZER;CN="Bandit":web@bandits-clan.ru
DESCRIPTION:**Требования:**-
	 Альянс - Даггерфолл
	 Ковенанта\n- Персонаж 
	от 160 очков героя\n- Собран
	ный билд под рейд\n- Накидка 
	гильдии Bandits\n\n**Приоритет:**\n- Сост
	оящим в гильдии Daggerfall Band
	its\n- Участникам прошлог
	о рейда\n- Игрокам\, 
	с собранными билдами.\n\n**Бил
	ды и всё обсуждение тут:** ⁠⁠https://discord.com/ch
	annels/156981162668064768/1300216436693925939 Запи
	саться на событие и принять участие
DTSTART:20241127T170000Z
DTEND:20241127T170500Z
END:VEVENT
END:VCALENDAR
