BEGIN:VCALENDAR
VERSION:2.0
PRODID:-//InvisionCommunity Events 4.7.14//EN
METHOD:PUBLISH
CALSCALE:GREGORIAN
REFRESH-INTERVAL:PT15M
X-PUBLISHED-TTL:PT15M
X-WR-CALNAME:The Elder Scrolls Online
NAME:The Elder Scrolls Online
BEGIN:VTIMEZONE
TZID:Europe/London
TZURL:http://tzurl.org/zoneinfo/Europe/London
X-LIC-LOCATION:Europe/London
BEGIN:DAYLIGHT
TZOFFSETFROM:+0000
TZOFFSETTO:+0100
TZNAME:BST
DTSTART:20230326T020000Z
RRULE:FREQ=YEARLY;BYMONTH=3;BYDAY=-1SU
END:DAYLIGHT
BEGIN:STANDARD
TZOFFSETFROM:+0100
TZOFFSETTO:+0000
TZNAME:GMT
DTSTART:20231029T020000Z
RRULE:FREQ=YEARLY;BYMONTH=10;BYDAY=-1SU
END:STANDARD
END:VTIMEZONE
BEGIN:VEVENT
SUMMARY:Нормальное испытание Клаудрест +
	2 (nCR +2)
DTSTAMP:20230827T083529Z
SEQUENCE:0
UID:12025-1-afb15bc42254ad5fb0481ce5e9c8144d@forum.bandits-clan.ru
ORGANIZER;CN="Bandit":web@bandits-clan.ru
DESCRIPTION:**Требования:**- 1
	60 Очков Героя\n- 
	Дополнение Сам
	мерсет или подпис
	ка\n\n ДЕЛАЕМ МИНИМ
	УМ ДВА ЗАХОДА\nПл
	ановое время рей
	да: 1 час\nПрихо
	дим заранее\
	, чтобы сдела
	ть как можно больше захо
	дов Записаться на событие и принять уч
	астие
DTSTART:20230827T150000Z
DTEND:20230827T150500Z
END:VEVENT
END:VCALENDAR
