BEGIN:VCALENDAR
VERSION:2.0
PRODID:-//InvisionCommunity Events 4.7.14//EN
METHOD:PUBLISH
CALSCALE:GREGORIAN
REFRESH-INTERVAL:PT15M
X-PUBLISHED-TTL:PT15M
X-WR-CALNAME:The Elder Scrolls Online
NAME:The Elder Scrolls Online
BEGIN:VTIMEZONE
TZID:Europe/London
TZURL:http://tzurl.org/zoneinfo/Europe/London
X-LIC-LOCATION:Europe/London
BEGIN:DAYLIGHT
TZOFFSETFROM:+0000
TZOFFSETTO:+0100
TZNAME:BST
DTSTART:20230326T020000Z
RRULE:FREQ=YEARLY;BYMONTH=3;BYDAY=-1SU
END:DAYLIGHT
BEGIN:STANDARD
TZOFFSETFROM:+0100
TZOFFSETTO:+0000
TZNAME:GMT
DTSTART:20231029T020000Z
RRULE:FREQ=YEARLY;BYMONTH=10;BYDAY=-1SU
END:STANDARD
END:VTIMEZONE
BEGIN:VEVENT
SUMMARY:Ветеранское испытание Пасть 
	Лорхаджа (vMOL)
DTSTAMP:20230817T080036Z
SEQUENCE:0
UID:11994-1-afb15bc42254ad5fb0481ce5e9c8144d@forum.bandits-clan.ru
ORGANIZER;CN="Bandit":web@bandits-clan.ru
DESCRIPTION:**Цель:**- Неумирайка и
	 спидран.\n\n**Требования:**\n- З
	аписаться в состав в канале https://discord.com/cha
	nnels/156981162668064768/1121030312839884870\n- Доп
	олнение Гильдия 
	Воров или подписк
	а\n \nПлановое вр
	емя рейда: 2 часа Записаться на событие
	 и принять участие
DTSTART:20230824T160000Z
DTEND:20230824T160500Z
END:VEVENT
END:VCALENDAR
