BEGIN:VCALENDAR
VERSION:2.0
PRODID:-//InvisionCommunity Events 4.7.14//EN
METHOD:PUBLISH
CALSCALE:GREGORIAN
REFRESH-INTERVAL:PT15M
X-PUBLISHED-TTL:PT15M
X-WR-CALNAME:The Elder Scrolls Online
NAME:The Elder Scrolls Online
BEGIN:VTIMEZONE
TZID:Europe/London
TZURL:http://tzurl.org/zoneinfo/Europe/London
X-LIC-LOCATION:Europe/London
BEGIN:DAYLIGHT
TZOFFSETFROM:+0000
TZOFFSETTO:+0100
TZNAME:BST
DTSTART:20230326T020000Z
RRULE:FREQ=YEARLY;BYMONTH=3;BYDAY=-1SU
END:DAYLIGHT
BEGIN:STANDARD
TZOFFSETFROM:+0100
TZOFFSETTO:+0000
TZNAME:GMT
DTSTART:20231029T020000Z
RRULE:FREQ=YEARLY;BYMONTH=10;BYDAY=-1SU
END:STANDARD
END:VTIMEZONE
BEGIN:VEVENT
SUMMARY:[TESO] Закрытый PvP-рейд в Сиродил
DTSTAMP:20230723T183337Z
SEQUENCE:0
UID:11791-1-afb15bc42254ad5fb0481ce5e9c8144d@forum.bandits-clan.ru
ORGANIZER;CN="strombers":web@bandits-clan.ru
DESCRIPTION:\n	PvP-рейд за Дагге
	рфолльский Ковенант.\n
	\n\n\n	Кампания СТАНДАРТНАЯ (безО
	Г) Рейвенвотч!!!\n\n\n\n	 \n\n\n\n	
	Требования(особенности)
	:\n\n\n\n	Альянс - Даггерфолльский Ков
	енант\n\n\n\n	Discord\n\n\n\n	Табард 
	гильдии\n\n\n\n	Полностью прокачан маунт
	\n\n\n\n	Моды: Dressing Room \, tim99s \,Player Role Indicator\,Greys
	kull : Weapon / Spell Damage Meter\n\n\n\n	Вет
	ка скиллов Ордена 
	Псиджиков       (пр
	окачанная)\n\n\n\n	Ветк
	а скиллов Штурм и 
	Поддержка    (про
	качанная)\n\n\n\n	Ветка
	 скиллов посоха в
	остановления (про
	качанная)\n\n\n\n	Ветка с
	киллов Вампир или Верволь
	ф  (прокачанная)\n\n\n\n	 \n\n\n\n	Минима
	льный  item-сетап: https://eso-hub.com/ru/builds/detactor/98c
	3456e-8da9-4731-96b0-2fbacd51c815/universalnyi-pvp-bild-dlia-nacinaiushhix
	(возможность коррекции до 
	начала рейда) второй  item-сетап: https://eso-hu
	b.com/ru/builds/detactor/98f25cbc-1387-413e-9ec1-a4cc8f6a45e5/universalnyi
	-bild-zashhitnika-kreposti\n\n\n\n	Другие 
	сборки обсуждается
	 до рейда!!!\n\n\n\n	Зелье
	 : Эссенция Непокол
	ебимости\n\n\n\n	Яд
	ы     : Яд Бег
	леца\, Яд Вы
	сасывания 
	Магии или Яд Высасы
	вания Запаса Сил\,Выс
	асывающий яд жестоко
	сти IX\n\n\n\n	Для вк
	лючения Вас в состав ре
	йда скиньте скрин Вашей сборки в личку Р
	Л !!!\n\n
DTSTART:20230726T173000Z
DTEND:20230726T193000Z
RRULE:FREQ=DAILY;INTERVAL=1;UNTIL=20230727T000000
END:VEVENT
END:VCALENDAR
