BEGIN:VCALENDAR
VERSION:2.0
PRODID:-//InvisionCommunity Events 4.7.14//EN
METHOD:PUBLISH
CALSCALE:GREGORIAN
REFRESH-INTERVAL:PT15M
X-PUBLISHED-TTL:PT15M
X-WR-CALNAME:Black Desert Online
NAME:Black Desert Online
BEGIN:VTIMEZONE
TZID:Europe/London
TZURL:http://tzurl.org/zoneinfo/Europe/London
X-LIC-LOCATION:Europe/London
BEGIN:DAYLIGHT
TZOFFSETFROM:+0000
TZOFFSETTO:+0100
TZNAME:BST
DTSTART:20230326T020000Z
RRULE:FREQ=YEARLY;BYMONTH=3;BYDAY=-1SU
END:DAYLIGHT
BEGIN:STANDARD
TZOFFSETFROM:+0100
TZOFFSETTO:+0000
TZNAME:GMT
DTSTART:20231029T020000Z
RRULE:FREQ=YEARLY;BYMONTH=10;BYDAY=-1SU
END:STANDARD
END:VTIMEZONE
BEGIN:VEVENT
SUMMARY:[BDO] Гильд Боссы
DTSTAMP:20230722T184559Z
SEQUENCE:0
UID:11774-8-afb15bc42254ad5fb0481ce5e9c8144d@forum.bandits-clan.ru
ORGANIZER;CN="Pupezky":web@bandits-clan.ru
DESCRIPTION:\n	Сразу после
	 Велла поход на 
	гильдийных боссо
	в:\n\n	• Грязевой монст
	р\n\n	• Лавовый монстр\n\n	
	• Древний Футурум\n\n\n\n	Ка
	нал Серендия-3\n\n	\n\
	n	Требования:\n\n	• 
	обязательное на
	хождение в диско
	рде (хотя бы уши)\n
	\n	• уровень персонажа и шмота максим
	альный\, что у вас есть\n\n
DTSTART:20230723T133000Z
ATTENDEE;CN="Pupezky";CUTYPE=INDIVIDUAL;PARTSTAT=ACCEPTED:we
	b@bandits-clan.ru
END:VEVENT
END:VCALENDAR
