BEGIN:VCALENDAR
VERSION:2.0
PRODID:-//InvisionCommunity Events 4.7.14//EN
METHOD:PUBLISH
CALSCALE:GREGORIAN
REFRESH-INTERVAL:PT15M
X-PUBLISHED-TTL:PT15M
X-WR-CALNAME:The Elder Scrolls Online
NAME:The Elder Scrolls Online
BEGIN:VTIMEZONE
TZID:Europe/London
TZURL:http://tzurl.org/zoneinfo/Europe/London
X-LIC-LOCATION:Europe/London
BEGIN:DAYLIGHT
TZOFFSETFROM:+0000
TZOFFSETTO:+0100
TZNAME:BST
DTSTART:20230326T020000Z
RRULE:FREQ=YEARLY;BYMONTH=3;BYDAY=-1SU
END:DAYLIGHT
BEGIN:STANDARD
TZOFFSETFROM:+0100
TZOFFSETTO:+0000
TZNAME:GMT
DTSTART:20231029T020000Z
RRULE:FREQ=YEARLY;BYMONTH=10;BYDAY=-1SU
END:STANDARD
END:VTIMEZONE
BEGIN:VEVENT
SUMMARY:[TESO] Имперский час X 3. (PvP-рейд
	 в Имперский город)
DTSTAMP:20230629T084652Z
SEQUENCE:0
UID:11677-1-afb15bc42254ad5fb0481ce5e9c8144d@forum.bandits-clan.ru
ORGANIZER;CN="Prav":web@bandits-clan.ru
DESCRIPTION:\n	\n		\n			Цель мер
	оприятия - фан
	овая игра в Имперском г
	ороде за Даггерфолль
	ский Ковенант.\n		\n\n
			\n			Попутно 
	выполняем 
	ежедневные квес
	ты и бьем боссов с период
	ической сдачей камней в
	 банк. \n		\n\n		\n			Рек
	омендуем прих
	одить на мероп
	риятие в ПвП-б
	илде на выжи
	вание - это п
	овысит ваши
	 шансы донес
	ти свои нес
	метные бог
	атства до банка 
	и не пожертвовать их предста
	вителям других альянсов.\n\n			 \n		\n\n	
		\n			Требования:\n\n			 \n		\n\n		\n		
		\n				Приходим вовремя к началу рейда.\
	n			\n			\n				Лива нет.\n			\n			\n				А
	льянс - Даггерфолл Ковенанта\n			
	\n			\n				10 уровень персонажа\n			\n			\n				Discord
	\n			\n			\n				Табард гильдии\n			\n	
			\n				На панели Вигор же
	лтый (Громкий клич) (Категория: 
	Военные &gt\; Штурм)\n\n				Аддоны\n\n				tim
	99s FTSIO (обязательно)\n\n				Provinatus\n\n				Action Duratio
	n Reminder\n			\n		\n\n		\n			 \n		\n	\n\n
DTSTART:20230629T170000Z
DTEND:20230629T200000Z
END:VEVENT
END:VCALENDAR
