BEGIN:VCALENDAR
VERSION:2.0
PRODID:-//InvisionCommunity Events 4.7.14//EN
METHOD:PUBLISH
CALSCALE:GREGORIAN
REFRESH-INTERVAL:PT15M
X-PUBLISHED-TTL:PT15M
X-WR-CALNAME:The Elder Scrolls Online
NAME:The Elder Scrolls Online
BEGIN:VTIMEZONE
TZID:Europe/London
TZURL:http://tzurl.org/zoneinfo/Europe/London
X-LIC-LOCATION:Europe/London
BEGIN:DAYLIGHT
TZOFFSETFROM:+0000
TZOFFSETTO:+0100
TZNAME:BST
DTSTART:20230326T020000Z
RRULE:FREQ=YEARLY;BYMONTH=3;BYDAY=-1SU
END:DAYLIGHT
BEGIN:STANDARD
TZOFFSETFROM:+0100
TZOFFSETTO:+0000
TZNAME:GMT
DTSTART:20231029T020000Z
RRULE:FREQ=YEARLY;BYMONTH=10;BYDAY=-1SU
END:STANDARD
END:VTIMEZONE
BEGIN:VEVENT
SUMMARY:Ветеранское
	 испытание Цитадель Хел Ра Усложненный
	 Режим (vHRC HM)
DTSTAMP:20230625T090823Z
SEQUENCE:0
UID:11652-1-afb15bc42254ad5fb0481ce5e9c8144d@forum.bandits-clan.ru
ORGANIZER;CN="Bandit":web@bandits-clan.ru
DESCRIPTION:** **\n**Требования д
	ля участников сообщества:*
	*\n- Звание Bandit или выше\n\n**
	Требования для осталь
	ных:**\n- ДПС от 70к или атте
	стация по роли не ниже Normal\, подробне
	е в канале https://discord.com/channels/156981162668064768/8198297
	16784644096/819830878531878942\n- Пройденный vHRC (скрин
	 ПИТКи)
DTSTART:20230702T160000Z
DTEND:20230702T160500Z
END:VEVENT
END:VCALENDAR
