BEGIN:VCALENDAR
VERSION:2.0
PRODID:-//InvisionCommunity Events 4.7.14//EN
METHOD:PUBLISH
CALSCALE:GREGORIAN
REFRESH-INTERVAL:PT15M
X-PUBLISHED-TTL:PT15M
X-WR-CALNAME:The Elder Scrolls Online
NAME:The Elder Scrolls Online
BEGIN:VTIMEZONE
TZID:Europe/London
TZURL:http://tzurl.org/zoneinfo/Europe/London
X-LIC-LOCATION:Europe/London
BEGIN:DAYLIGHT
TZOFFSETFROM:+0000
TZOFFSETTO:+0100
TZNAME:BST
DTSTART:20230326T020000Z
RRULE:FREQ=YEARLY;BYMONTH=3;BYDAY=-1SU
END:DAYLIGHT
BEGIN:STANDARD
TZOFFSETFROM:+0100
TZOFFSETTO:+0000
TZNAME:GMT
DTSTART:20231029T020000Z
RRULE:FREQ=YEARLY;BYMONTH=10;BYDAY=-1SU
END:STANDARD
END:VTIMEZONE
BEGIN:VEVENT
SUMMARY:[TESO] Ветеранское испытание Г
	рань Безумия (vSE)
DTSTAMP:20230611T202758Z
SEQUENCE:0
UID:11528-1-afb15bc42254ad5fb0481ce5e9c8144d@forum.bandits-clan.ru
ORGANIZER;CN="Sanjik":web@bandits-clan.ru
DESCRIPTION:\n	Требования:\n\n\n\n	\n		Звание Supe
	rior Bandit и выше\n	\n	\n		Глава Некром\n	\n\n\n\n	
	Состав:\n\n\n\n	\n		MT Pearl + Sax + ТNazaray arcanist @Yurikon\n	
	\n	\n		OT  TT + PA + Spaulder  @Sanjik\n	\n	\n		H RO + Jorvuld + arcanis
	t Ozezan/SoB/spaulder \n	\n	\n		H Pillager + SPC + pearls+Nazaray  den\n
		\n	\n		DD\n	\n	\n		DD  \n	\n	\n		DD\n	\n	\n		DD\n	\n	\n		DD  \n	\n	\n
			DD \n	\n	\n		DD EC cro @Be1Fgor\n	\n	\n		DD Zen+alkosh encratis dk @ca
	baka\n	\n\n
DTSTART:20230612T130000Z
DTEND:20230612T130500Z
ATTENDEE;CN="Yurikon";CUTYPE=INDIVIDUAL;PARTSTAT=ACCEPTED:we
	b@bandits-clan.ru
ATTENDEE;CN="OctopusTeso";CUTYPE=INDIVIDUAL;PARTSTAT=ACCEPTE
	D:web@bandits-clan.ru
ATTENDEE;CN="Fillith1556";CUTYPE=INDIVIDUAL;PARTSTAT=ACCEPTE
	D:web@bandits-clan.ru
ATTENDEE;CN="Be1Fgor";CUTYPE=INDIVIDUAL;PARTSTAT=ACCEPTED:we
	b@bandits-clan.ru
ATTENDEE;CN="Ptomaine";CUTYPE=INDIVIDUAL;PARTSTAT=ACCEPTED:w
	eb@bandits-clan.ru
END:VEVENT
END:VCALENDAR
