BEGIN:VCALENDAR
VERSION:2.0
PRODID:-//InvisionCommunity Events 4.7.14//EN
METHOD:PUBLISH
CALSCALE:GREGORIAN
REFRESH-INTERVAL:PT15M
X-PUBLISHED-TTL:PT15M
X-WR-CALNAME:The Elder Scrolls Online
NAME:The Elder Scrolls Online
BEGIN:VTIMEZONE
TZID:Europe/London
TZURL:http://tzurl.org/zoneinfo/Europe/London
X-LIC-LOCATION:Europe/London
BEGIN:DAYLIGHT
TZOFFSETFROM:+0000
TZOFFSETTO:+0100
TZNAME:BST
DTSTART:20230326T020000Z
RRULE:FREQ=YEARLY;BYMONTH=3;BYDAY=-1SU
END:DAYLIGHT
BEGIN:STANDARD
TZOFFSETFROM:+0100
TZOFFSETTO:+0000
TZNAME:GMT
DTSTART:20231029T020000Z
RRULE:FREQ=YEARLY;BYMONTH=10;BYDAY=-1SU
END:STANDARD
END:VTIMEZONE
BEGIN:VEVENT
SUMMARY:[TESO] Ветеранское испытание К
	аменная роща (vRG)
DTSTAMP:20230606T112137Z
SEQUENCE:0
UID:11509-1-afb15bc42254ad5fb0481ce5e9c8144d@forum.bandits-clan.ru
ORGANIZER;CN="Kubik":web@bandits-clan.ru
DESCRIPTION:\n	Пригла
	шаю всех желающих 
	пройти ветеранское испытание Каме
	нная Роща. РЛ - @LuftHuronBlackHeart\n\n\n\n	Н
	еобходимый состав:\n\n\n\n	\n		2 Танка\n	\n	\
	n		2 Хилера\n	\n	\n		8 ДД\n	\n\n\n\n	Обязательны
	е аддоны:\n\n\n\n	\n		Bandits User Interface\n	\n\n
	\n\n	Требования для участия:\n\n\n\n	\n		Звание 
	Veteran Bandit\n	\n	\n		Discord и наличие мик
	рофона\n	\n	\n		Табард гильдии Daggerfall Bandits / Ban
	dits Clan / Bandits Force\n	\n\n\n\n	Для 
	подтверждения участ
	ия необходимо отметиться
	 в календаре:\n\n\n\n	\n		Нажа
	ть кнопку Пойду\n	\n	\n		Указ
	ать свою роль и ID в ком
	ментариях\n	\n	\n		Е
	сли по каким-т
	о причинам не 
	получится прийти
	\, отписаться в комментариях\, изменив 
	свое сообщение\n	\n\n
DTSTART:20230610T070000Z
DTEND:20230610T070500Z
ATTENDEE;CN="LuftHuronBlackHeart";CUTYPE=INDIVIDUAL;PARTSTAT
	=ACCEPTED:web@bandits-clan.ru
ATTENDEE;CN="shalwa";CUTYPE=INDIVIDUAL;PARTSTAT=ACCEPTED:web
	@bandits-clan.ru
ATTENDEE;CN="Matros25rus";CUTYPE=INDIVIDUAL;PARTSTAT=ACCEPTE
	D:web@bandits-clan.ru
ATTENDEE;CN="WhiteZorro";CUTYPE=INDIVIDUAL;PARTSTAT=ACCEPTED
	:web@bandits-clan.ru
END:VEVENT
END:VCALENDAR
