BEGIN:VCALENDAR
VERSION:2.0
PRODID:-//InvisionCommunity Events 4.7.14//EN
METHOD:PUBLISH
CALSCALE:GREGORIAN
REFRESH-INTERVAL:PT15M
X-PUBLISHED-TTL:PT15M
X-WR-CALNAME:The Elder Scrolls Online
NAME:The Elder Scrolls Online
BEGIN:VTIMEZONE
TZID:Europe/London
TZURL:http://tzurl.org/zoneinfo/Europe/London
X-LIC-LOCATION:Europe/London
BEGIN:DAYLIGHT
TZOFFSETFROM:+0000
TZOFFSETTO:+0100
TZNAME:BST
DTSTART:20230326T020000Z
RRULE:FREQ=YEARLY;BYMONTH=3;BYDAY=-1SU
END:DAYLIGHT
BEGIN:STANDARD
TZOFFSETFROM:+0100
TZOFFSETTO:+0000
TZNAME:GMT
DTSTART:20231029T020000Z
RRULE:FREQ=YEARLY;BYMONTH=10;BYDAY=-1SU
END:STANDARD
END:VTIMEZONE
BEGIN:VEVENT
SUMMARY:[TESO] Ветеранское испытание Г
	рань Безумия (vSE)
DTSTAMP:20230604T194036Z
SEQUENCE:0
UID:11499-1-afb15bc42254ad5fb0481ce5e9c8144d@forum.bandits-clan.ru
ORGANIZER;CN="elqwero":web@bandits-clan.ru
DESCRIPTION:\n	Обязат
	ельные адд
	оны необходим
	о настроить до начал
	а события. Рейд будет
	 длится до 3 часов\n
	\n\n\n	В рейд по 
	записи бе
	рутся от 
	звания ма
	стер бандит. Ост
	альные рассматр
	иваются в индивидуальном по
	рядке.\n\n\n\n	Обязательные аддоны:\n\n\n\n	\n		Rai
	dNotifier (https://www.esoui.com/downloads/info1355-RaidNotifierUpdated.ht
	ml)\n	\n	\n		OdySupportIcons (https://www.esoui.com/downloads/info2834-Ody
	SupportIcons-GroupRoleIconsMore.html). Или 
	аналогичны
	е аддоны (д
	обавляющи
	е иконки ро
	лей над головой п
	ерсонажей и увеличенную иконку 
	короны(рейд-лидера))\n	\n	\n		Hodo
	r Reflexes (Необходим для горна и колосса) (https
	://www.esoui.com/downloads/info2311-HodorReflexes-DPSUltimateShare.html)\n
		\n	\n		Code's Combat Alerts (https://www.esoui.com/downloads/info1855-Cod
	esCombatAlerts.html)\n	\n	\n		Slip's Sanity's Edge Assist(https://www.esou
	i.com/downloads/info3630-SlipsSanitysEdgeAssist.html) Р
	аботоспособность не га
	рантируется\n\n		 \n	\n\n\n\n	Требов
	ания для участия:\n\n\n\n	\n		Звание Mast
	er Bandit/Мастер Бандит\n	\n	\n		Discord
	 и наличие микрофона\n	\n	\n		Табард гильдии
	 Daggerfall Bandits / Bandits Clan / Bandits Force\n	\n	\n		П
	риобретенное допо
	лнение\n	\n\n\n\n	
	Для подтверждения уч
	астия необходимо отме
	титься в календаре:\n\n\n\n	\
	n		Нажать кнопку Пойду\n	\n
		\n		Указать свою роль и ID
	 в комментариях\n	\n	\
	n		Если по каки
	м-то причинам 
	не получится п
	рийти\, отписаться в комментариях\,
	 изменив свое сообщение\n	\n\n
DTSTART:20230610T110000Z
DTEND:20230610T110500Z
ATTENDEE;CN="elqwero";CUTYPE=INDIVIDUAL;PARTSTAT=ACCEPTED:we
	b@bandits-clan.ru
ATTENDEE;CN="c@6aka";CUTYPE=INDIVIDUAL;PARTSTAT=ACCEPTED:web
	@bandits-clan.ru
ATTENDEE;CN="HolYBaaL";CUTYPE=INDIVIDUAL;PARTSTAT=ACCEPTED:w
	eb@bandits-clan.ru
ATTENDEE;CN="Vardan1991";CUTYPE=INDIVIDUAL;PARTSTAT=ACCEPTED
	:web@bandits-clan.ru
ATTENDEE;CN="Fillith1556";CUTYPE=INDIVIDUAL;PARTSTAT=ACCEPTE
	D:web@bandits-clan.ru
ATTENDEE;CN="LawOfJulia";CUTYPE=INDIVIDUAL;PARTSTAT=ACCEPTED
	:web@bandits-clan.ru
ATTENDEE;CN="Heymexa";CUTYPE=INDIVIDUAL;PARTSTAT=ACCEPTED:we
	b@bandits-clan.ru
ATTENDEE;CN="АндрейАгур";CUTYPE=INDIVIDUAL;PARTSTA
	T=ACCEPTED:web@bandits-clan.ru
ATTENDEE;CN="Kubik";CUTYPE=INDIVIDUAL;PARTSTAT=ACCEPTED:web@
	bandits-clan.ru
ATTENDEE;CN="Ptomaine";CUTYPE=INDIVIDUAL;PARTSTAT=ACCEPTED:w
	eb@bandits-clan.ru
ATTENDEE;CN="bonart";CUTYPE=INDIVIDUAL;PARTSTAT=ACCEPTED:web
	@bandits-clan.ru
END:VEVENT
END:VCALENDAR
