BEGIN:VCALENDAR
VERSION:2.0
PRODID:-//InvisionCommunity Events 4.7.14//EN
METHOD:PUBLISH
CALSCALE:GREGORIAN
REFRESH-INTERVAL:PT15M
X-PUBLISHED-TTL:PT15M
X-WR-CALNAME:The Elder Scrolls Online
NAME:The Elder Scrolls Online
BEGIN:VTIMEZONE
TZID:Europe/London
TZURL:http://tzurl.org/zoneinfo/Europe/London
X-LIC-LOCATION:Europe/London
BEGIN:DAYLIGHT
TZOFFSETFROM:+0000
TZOFFSETTO:+0100
TZNAME:BST
DTSTART:20230326T020000Z
RRULE:FREQ=YEARLY;BYMONTH=3;BYDAY=-1SU
END:DAYLIGHT
BEGIN:STANDARD
TZOFFSETFROM:+0100
TZOFFSETTO:+0000
TZNAME:GMT
DTSTART:20231029T020000Z
RRULE:FREQ=YEARLY;BYMONTH=10;BYDAY=-1SU
END:STANDARD
END:VTIMEZONE
BEGIN:VEVENT
SUMMARY:[TESO] Ветеранское испытание Кл
	аудрест +0 (vCR+0)
DTSTAMP:20230527T153427Z
SEQUENCE:0
UID:11446-1-afb15bc42254ad5fb0481ce5e9c8144d@forum.bandits-clan.ru
ORGANIZER;CN="elqwero":web@bandits-clan.ru
DESCRIPTION:\n	Пригла
	шаю всех желающих
	 пройти Ветеранское 
	испытание Клаудрест.\n
	\n\n\n	Сбор начинаетс
	я за 15 минут до на
	чала. Если Вы п
	ришли после вр
	емени начала рейда\, 
	то ваше место може
	т занят другой игр
	ок.\n\n\n\n	Обязател
	ьные аддоны необх
	одимо настроить до начала со
	бытия.\n\n\n\n	Необходимый состав:\n\n\n\
	n	\n		2 Танка\n	\n	\n		2 Лекаря\n	\n	\n		8 Бо
	йцов\n	\n\n\n\n	Обязательные аддоны:\n\n\n\n	\n		Rai
	dNotifier (https://www.esoui.com/downloads/info1355-RaidNotifierUpdated.ht
	ml)\n	\n	\n		OdySupportIcons (https://www.esoui.com/downloads/info2834-Ody
	SupportIcons-GroupRoleIconsMore.html). Или 
	аналогичны
	е аддоны (д
	обавляющи
	е иконки ро
	лей над головой п
	ерсонажей и увеличенную иконку 
	короны(рейд-лидера))\n	\n	\n		Hodo
	r Reflexes (Необходим для горна и колосса) (https
	://www.esoui.com/downloads/info2311-HodorReflexes-DPSUltimateShare.html)\n
		\n	\n		Code's Combat Alerts (https://www.esoui.com/downloads/info1855-Cod
	esCombatAlerts.html)\n	\n	\n		HowToCloudrest (https://www.esoui.com/downlo
	ads/info3497-HowToCloudrest.html)\n	\n\n\n\n	Требовани
	я для участия:\n\n\n\n	\n		Звание Veteran Ba
	ndit/Ветеран Бандит\n	\n	\n		Discord 
	и наличие микрофона\n	\n	\n		Табард гильдии 
	Daggerfall Bandits / Bandits Clan / Bandits Force\n	\n	\n		П
	риобретенное дополнение Summerset 
	или ESO Plus\n	\n\n\n\n	Для
	 подтверждения участ
	ия необходимо отметиться
	 в календаре:\n\n\n\n	\n		Нажа
	ть кнопку Пойду\n	\n	\n		Указ
	ать свою роль и ID в ком
	ментариях\n	\n	\n		Е
	сли по каким-т
	о причинам не 
	получится прийти
	\, отписаться в комментариях\, изменив 
	свое сообщение\n	\n\n
DTSTART:20230531T130000Z
DTEND:20230531T130500Z
ATTENDEE;CN="elqwero";CUTYPE=INDIVIDUAL;PARTSTAT=ACCEPTED:we
	b@bandits-clan.ru
ATTENDEE;CN="Fillith1556";CUTYPE=INDIVIDUAL;PARTSTAT=ACCEPTE
	D:web@bandits-clan.ru
ATTENDEE;CN="Azarak";CUTYPE=INDIVIDUAL;PARTSTAT=ACCEPTED:web
	@bandits-clan.ru
ATTENDEE;CN="WhiteZorro";CUTYPE=INDIVIDUAL;PARTSTAT=ACCEPTED
	:web@bandits-clan.ru
ATTENDEE;CN="Stonechump";CUTYPE=INDIVIDUAL;PARTSTAT=ACCEPTED
	:web@bandits-clan.ru
ATTENDEE;CN="Be1Fgor";CUTYPE=INDIVIDUAL;PARTSTAT=ACCEPTED:we
	b@bandits-clan.ru
END:VEVENT
END:VCALENDAR
