BEGIN:VCALENDAR
VERSION:2.0
PRODID:-//InvisionCommunity Events 4.7.14//EN
METHOD:PUBLISH
CALSCALE:GREGORIAN
REFRESH-INTERVAL:PT15M
X-PUBLISHED-TTL:PT15M
X-WR-CALNAME:The Elder Scrolls Online
NAME:The Elder Scrolls Online
BEGIN:VTIMEZONE
TZID:Europe/London
TZURL:http://tzurl.org/zoneinfo/Europe/London
X-LIC-LOCATION:Europe/London
BEGIN:DAYLIGHT
TZOFFSETFROM:+0000
TZOFFSETTO:+0100
TZNAME:BST
DTSTART:20230326T020000Z
RRULE:FREQ=YEARLY;BYMONTH=3;BYDAY=-1SU
END:DAYLIGHT
BEGIN:STANDARD
TZOFFSETFROM:+0100
TZOFFSETTO:+0000
TZNAME:GMT
DTSTART:20231029T020000Z
RRULE:FREQ=YEARLY;BYMONTH=10;BYDAY=-1SU
END:STANDARD
END:VTIMEZONE
BEGIN:VEVENT
SUMMARY:[TESO] услож
	ненный режим Ветеранского 
	испытания Каменная Роща (vRG Hm)(Обучающий)
DTSTAMP:20230527T153133Z
SEQUENCE:0
UID:11443-1-afb15bc42254ad5fb0481ce5e9c8144d@forum.bandits-clan.ru
ORGANIZER;CN="elqwero":web@bandits-clan.ru
DESCRIPTION:\n	Пригл
	ашаю ж
	елающ
	их обу
	чаться прох
	ождению усложне
	нного Ветеранского 
	испытания Каменная Ро
	ща.\n\n\n\n	Сбор начинае
	тся за 15 минут до 
	начала. Если Вы
	 пришли после 
	времени начала рейда\
	, то ваше место може
	т занят другой игр
	ок.\n\n\n\n	Обяза
	тельные ад
	доны необход
	имо настроить до нач
	ала события. Рейд бу
	дет длится до 3 часо
	в\n\n\n\n	В рейд по
	 записи бе
	рутся от
	 звания 
	супериор банд
	ит. Остальные ра
	ссматриваются в индиви
	дуальном порядке.\n\n\n\n	Необходимый
	 состав:\n\n\n\n	\n		2 Танка\n	\n	\n		2 Лекаря\n	\n
		\n		8 Бойцов\n	\n\n\n\n	Обязательные аддоны:\n\n\
	n\n	\n		RaidNotifier (https://www.esoui.com/downloads/info1355-RaidNotifie
	rUpdated.html)\n	\n	\n		OdySupportIcons (https://www.esoui.com/downloads/i
	nfo2834-OdySupportIcons-GroupRoleIconsMore.html)\n	\n	\n		Hodor Reflexes (
	Необходим для горна и колосса) (https://www.esoui
	.com/downloads/info2311-HodorReflexes-DPSUltimateShare.html)\n	\n	\n		Code
	's Combat Alerts (https://www.esoui.com/downloads/info1855-CodesCombatAler
	ts.html)\n	\n	\n		Qcell's Rockgrove Helper (https://www.esoui.com/download
	s/info3060-QcellsRockgroveHelper.html)(+lang patch или
	 играть на английском языке)\n	\n	\n		Improved Deat
	h Recap (https://www.esoui.com/downloads/info1319-ImprovedDeathRecap.html)
	\n	\n\n\n\n	Рекомендуемые сборки:\n\n\n\n	\n	
		Для ДД:\n	\n\n\n\n	\n		Играт
	ь за класс дк(
	иметь зен в инвенторе
	) или некромант(иметь 
	каталист в инвентаре)\n	\n	\n		И
	меть 5 легких кусков\, 2 средних\n	\n	
	\n		Сирория(siroria)\n	\n	\n		Зогвин(tzogvin)/рункаве
	р(runcarver's braze)\n	\n	\n		Колье 
	морского змея(приорит
	ет)/шепот моры(если ни
	чего нет)\n	\n	\n		Ножи с черной ро
	зы/вихревая палка(лук)\n	\n\n\n\n	\n		
	Для хилов\n	\n\n\n\n	\n		Играть
	 указанными ниже клас
	сами\n	\n	\n		Найт бле
	йд - Мародер\, Саксх
	лил(приоритет)/архит
	ектор или олорим и э
	нлофей\n	\n	\n		Варде
	н - Йорвульд\, ава
	нтюрист и озезан. имет
	ь военную ветку 7 уровня\, с пси
	джиков ульт\n	\n\n\n\n	\n		Для танко
	в\n	\n\n\n\n	\n		Играть указанными
	 ниже классами\n	\n	\n		Мей
	н(дк) - перламутр на 2 панели\, ёлн
	акрин\, сотрясатель/baron zaurdus\
	n	\n	\n		Офф(некромант)
	 - мощный натиск\, са
	ксхлил/олорим\, напл
	ечник разрушения/энкратис\n	\n
	\n\n\n	Требования для участия:\n\n\n\n	\
	n		Звание Superior Bandit/Супериор Бандит
	\n	\n	\n		Discord и наличие микрофона\n	\n	\
	n		Табард гильдии Daggerfall Bandits / Bandits Clan / Bandits
	 Force\n	\n	\n		Приобретенное дополнен
	ие или ESO Plus\n	\n	\n		Прочитать 
	описание события\
	n	\n\n\n\n	Для подтве
	рждения участия необ
	ходимо отметиться в календар
	е:\n\n\n\n	\n		Нажать кнопку Пойд
	у\n	\n	\n		Указать свою роль и I
	D в комментариях\n	\n	\n		Осозна
	ть\, что рейд длится 3 ч
	аса\n	\n	\n		Если по к
	аким-то причи
	нам не получи
	тся прийти\, отписаться в 
	комментариях\, изменив свое сообщение\n	\n
	\n
DTSTART:20230529T170000Z
DTEND:20230529T170500Z
ATTENDEE;CN="FestralRanma";CUTYPE=INDIVIDUAL;PARTSTAT=ACCEPT
	ED:web@bandits-clan.ru
ATTENDEE;CN="elqwero";CUTYPE=INDIVIDUAL;PARTSTAT=ACCEPTED:we
	b@bandits-clan.ru
ATTENDEE;CN="Heymexa";CUTYPE=INDIVIDUAL;PARTSTAT=ACCEPTED:we
	b@bandits-clan.ru
ATTENDEE;CN="LawOfJulia";CUTYPE=INDIVIDUAL;PARTSTAT=ACCEPTED
	:web@bandits-clan.ru
ATTENDEE;CN="WhiteZorro";CUTYPE=INDIVIDUAL;PARTSTAT=ACCEPTED
	:web@bandits-clan.ru
ATTENDEE;CN="bonart";CUTYPE=INDIVIDUAL;PARTSTAT=ACCEPTED:web
	@bandits-clan.ru
ATTENDEE;CN="Be1Fgor";CUTYPE=INDIVIDUAL;PARTSTAT=ACCEPTED:we
	b@bandits-clan.ru
END:VEVENT
END:VCALENDAR
