BEGIN:VCALENDAR
VERSION:2.0
PRODID:-//InvisionCommunity Events 4.7.14//EN
METHOD:PUBLISH
CALSCALE:GREGORIAN
REFRESH-INTERVAL:PT15M
X-PUBLISHED-TTL:PT15M
X-WR-CALNAME:The Elder Scrolls Online
NAME:The Elder Scrolls Online
BEGIN:VTIMEZONE
TZID:Europe/London
TZURL:http://tzurl.org/zoneinfo/Europe/London
X-LIC-LOCATION:Europe/London
BEGIN:DAYLIGHT
TZOFFSETFROM:+0000
TZOFFSETTO:+0100
TZNAME:BST
DTSTART:20230326T020000Z
RRULE:FREQ=YEARLY;BYMONTH=3;BYDAY=-1SU
END:DAYLIGHT
BEGIN:STANDARD
TZOFFSETFROM:+0100
TZOFFSETTO:+0000
TZNAME:GMT
DTSTART:20231029T020000Z
RRULE:FREQ=YEARLY;BYMONTH=10;BYDAY=-1SU
END:STANDARD
END:VTIMEZONE
BEGIN:VEVENT
SUMMARY:[TESO] PvP-рейд в Имперский город
DTSTAMP:20230522T015551Z
SEQUENCE:0
UID:11430-1-afb15bc42254ad5fb0481ce5e9c8144d@forum.bandits-clan.ru
ORGANIZER;CN="Prav":web@bandits-clan.ru
DESCRIPTION:\n	\n		\n			Цель меро
	приятия - фар
	м камней Те
	ль Вар в имперском г
	ороде на боссах за Да
	ггерфолльский Ковен
	ант.\n		\n\n		\n			Вы
	полняем е
	жедневные кве
	сты и фармим боссов с пе
	риодической сдачей камн
	ей в банк. \n		\n\n		\n	
			Рекомендуем 
	приходить на 
	мероприятие в
	 ПвП-билде на 
	выживание - 
	это повысит 
	ваши шансы д
	онести сво
	и несметные
	 богатства до
	 банка и не пожертвоват
	ь их представителям других альян
	сов.\n\n			 \n		\n\n		\n			Требования:\n		\n\n
			\n			\n				Приходим вовремя к на
	чалу рейда\n			\n			\n				Обя
	зательная часть для уча
	стников рейда: с 17-00 до 
	18-30 фарм камней Тель Вар в Импе
	рском городе\, лива нет.\n			\n			\n				с
	 18-30 до 19-00 - по жел
	анию: фарм
	 скампов-сок
	ровищницы и 
	коварных скампов в Имп
	ерской канализации\, поход
	 на Молаг Бала.\n			\n			\n				Альянс
	 - Даггерфолл Ковенанта\n			\n			\n			
		10 уровень персонажа\n			\n			\n				Discord\
	n			\n			\n				Табард гильдии\n			\n		\n\n		\n			 \n		\n	\n\
	n
DTSTART:20230528T140000Z
DTEND:20230528T160000Z
ATTENDEE;CN="Prav";CUTYPE=INDIVIDUAL;PARTSTAT=ACCEPTED:web@b
	andits-clan.ru
ATTENDEE;CN="cotikred";CUTYPE=INDIVIDUAL;PARTSTAT=ACCEPTED:w
	eb@bandits-clan.ru
END:VEVENT
END:VCALENDAR
