BEGIN:VCALENDAR
VERSION:2.0
PRODID:-//InvisionCommunity Events 4.7.14//EN
METHOD:PUBLISH
CALSCALE:GREGORIAN
REFRESH-INTERVAL:PT15M
X-PUBLISHED-TTL:PT15M
X-WR-CALNAME:The Elder Scrolls Online
NAME:The Elder Scrolls Online
BEGIN:VTIMEZONE
TZID:Europe/London
TZURL:http://tzurl.org/zoneinfo/Europe/London
X-LIC-LOCATION:Europe/London
BEGIN:DAYLIGHT
TZOFFSETFROM:+0000
TZOFFSETTO:+0100
TZNAME:BST
DTSTART:20230326T020000Z
RRULE:FREQ=YEARLY;BYMONTH=3;BYDAY=-1SU
END:DAYLIGHT
BEGIN:STANDARD
TZOFFSETFROM:+0100
TZOFFSETTO:+0000
TZNAME:GMT
DTSTART:20231029T020000Z
RRULE:FREQ=YEARLY;BYMONTH=10;BYDAY=-1SU
END:STANDARD
END:VTIMEZONE
BEGIN:VEVENT
SUMMARY:[TESO] Обучающее Ветера
	нское испытание Клаудрест +1 (vCR+1)
DTSTAMP:20230515T090500Z
SEQUENCE:0
UID:11406-1-afb15bc42254ad5fb0481ce5e9c8144d@forum.bandits-clan.ru
ORGANIZER;CN="moonston":web@bandits-clan.ru
DESCRIPTION:\n	Приг
	лаша
	ю всех ж
	елающих обу
	чаться прохож
	дению Ветеран
	ского испытания 
	Клаудрест +1.\n\n	Команда в чат
	 для приглашения в группу:  /w @mo
	onston +\n\n\n\n	Сбор начинает
	ся за 15 минут до н
	ачала. Если Вы 
	пришли после 
	времени начала рейда\
	, то ваше место може
	т занят другой игр
	ок.\n\n\n\n	Обязат
	ельные аддо
	ны необходимо н
	астроить до начала со
	бытия. Рейд будет длит
	ся до 3 часов\n\n\n\n	
	В рейд по з
	аписи беру
	тся от зва
	ния мастер ба
	ндит. Остальные 
	рассматриваются в ин
	дивидуальном порядке.\n\n\n\n	Нео
	бходимый состав:\n\n\n\n	\n		3 Танка\n	\n	\
	n		2 Лекаря\n	\n	\n		7 Бойцов\n	\n\n\n\n	Обя
	зательные аддоны:\n\n\n\n	\n		RaidNotifier (https://www.eso
	ui.com/downloads/info1355-RaidNotifierUpdated.html)\n	\n	\n		OdySupportIco
	ns (https://www.esoui.com/downloads/info2834-OdySupportIcons-GroupRoleIcon
	sMore.html)\n	\n	\n		Hodor Reflexes (Необходим дл
	я горна и колосса) (https://www.esoui.com/downloads/info2311
	-HodorReflexes-DPSUltimateShare.html)\n	\n	\n		Code's Combat Alerts (https
	://www.esoui.com/downloads/info1855-CodesCombatAlerts.html)\n	\n	\n		HowTo
	Cloudrest (https://www.esoui.com/downloads/info3497-HowToCloudrest.html)\n
		\n	\n		CrutchAlerts (https://www.esoui.com/downloads/info3137-CrutchAlert
	s.html)\n	\n	\n		Improved Death Recap (https://www.esoui.com/downloads/inf
	o1319-ImprovedDeathRecap.html)(для танков)\n	\
	n\n\n\n	Рекомендуемые сборки:\n\n\n\n	\n		
	Для ДД:\n	\n\n\n\n	\n		Играть ук
	азанными ниже класс
	ами\n	\n	\n		Иметь 
	сборку с даль
	ними атаками и скилам
	и. Никаких двуручник
	ов\, кинжалов и прочег
	о\n	\n	\n		Для некромантов и
	меть сборку каталист\,
	 алкош/мартиал\n	\n	\n		Для 
	ДК иметь сборку алкош\, энкратис\, 
	дзен\n	\n\n\n\n	\n		Для хилов\n	\n\n
	\n\n	\n		Играть указанными ни
	же классами\n	\n	\n		Найт блей
	д - Мародер\, СПК и симфон
	ия\n	\n	\n		Варден - Йорвуль
	д\, авантюрист и наплечник разруше
	ния\n	\n\n\n\n	\n		Для танков\n	\n\n
	\n\n	\n		Играть указанными н
	иже классами\n	\n	\n		М
	ейн(некр) - При
	ливная верх\, ёлнакри
	н/саксхлил низ\, архидру
	ид/сотрясатель\n	\n	\n		
	Офф(дк) - Перламутр\, мощ
	ный натиск\, энкратис/сотр
	ясатель\n	\n\n\n\n	Требования для участи
	я:\n\n\n\n	\n		Звание Master Bandit/Мастер Банд
	ит\n	\n	\n		Discord и наличие микрофона\n	
	\n	\n		Табард гильдии Daggerfall Bandits / Bandits Clan / Ban
	dits Force\n	\n	\n		Приобретенное дополнение Sum
	merset или ESO Plus\n	\n	\n		Прочитать оп
	исание события\n	\
	n\n\n\n	Для подтвержд
	ения участия необход
	имо отметиться в календаре:\
	n\n\n\n	\n		Нажать кнопку Пойду
	\n	\n	\n		Указать свою роль и ID
	 в комментариях\n	\n	\n		Осозна
	ть\, что рейд длится 3 ч
	аса\n	\n	\n		Если по к
	аким-то причи
	нам не получи
	тся прийти\, отписаться в 
	комментариях\, изменив свое сообщение\n	\n
	\n
DTSTART:20230515T160000Z
DTEND:20230515T160500Z
ATTENDEE;CN="moonston";CUTYPE=INDIVIDUAL;PARTSTAT=ACCEPTED:w
	eb@bandits-clan.ru
ATTENDEE;CN="c@6aka";CUTYPE=INDIVIDUAL;PARTSTAT=ACCEPTED:web
	@bandits-clan.ru
ATTENDEE;CN="EKB96";CUTYPE=INDIVIDUAL;PARTSTAT=ACCEPTED:web@
	bandits-clan.ru
ATTENDEE;CN="Be1Fgor";CUTYPE=INDIVIDUAL;PARTSTAT=ACCEPTED:we
	b@bandits-clan.ru
ATTENDEE;CN="Stonechump";CUTYPE=INDIVIDUAL;PARTSTAT=ACCEPTED
	:web@bandits-clan.ru
ATTENDEE;CN="LawOfJulia";CUTYPE=INDIVIDUAL;PARTSTAT=ACCEPTED
	:web@bandits-clan.ru
ATTENDEE;CN="Heymexa";CUTYPE=INDIVIDUAL;PARTSTAT=ACCEPTED:we
	b@bandits-clan.ru
END:VEVENT
END:VCALENDAR
