BEGIN:VCALENDAR
VERSION:2.0
PRODID:-//InvisionCommunity Events 4.7.14//EN
METHOD:PUBLISH
CALSCALE:GREGORIAN
REFRESH-INTERVAL:PT15M
X-PUBLISHED-TTL:PT15M
X-WR-CALNAME:The Elder Scrolls Online
NAME:The Elder Scrolls Online
BEGIN:VTIMEZONE
TZID:Europe/London
TZURL:http://tzurl.org/zoneinfo/Europe/London
X-LIC-LOCATION:Europe/London
BEGIN:DAYLIGHT
TZOFFSETFROM:+0000
TZOFFSETTO:+0100
TZNAME:BST
DTSTART:20230326T020000Z
RRULE:FREQ=YEARLY;BYMONTH=3;BYDAY=-1SU
END:DAYLIGHT
BEGIN:STANDARD
TZOFFSETFROM:+0100
TZOFFSETTO:+0000
TZNAME:GMT
DTSTART:20231029T020000Z
RRULE:FREQ=YEARLY;BYMONTH=10;BYDAY=-1SU
END:STANDARD
END:VTIMEZONE
BEGIN:VEVENT
SUMMARY:[TESO] Закрытый PvP-рейд в Сиродил
DTSTAMP:20230514T185151Z
SEQUENCE:0
UID:11402-1-afb15bc42254ad5fb0481ce5e9c8144d@forum.bandits-clan.ru
ORGANIZER;CN="strombers":web@bandits-clan.ru
DESCRIPTION:\n	PvP-рейд за Дагге
	рфолльский Ковенант.\n
	\n\n\n	Кампания СТАНДАРТНАЯ (безО
	Г) Рейвенвотч!!!\n\n\n\n	 \n\n\n\n	
	Требования(особенности)
	:\n\n\n\n	Альянс - Даггерфолльский Ков
	енант\n\n\n\n	Discord\n\n\n\n	Табард 
	гильдии\n\n\n\n	Полностью прокачан маунт
	\n\n\n\n	Моды: Dressing Room \, tim99s \,Player Role Indicator\n\n
	\n\n	Ветка скиллов Орде
	на Псиджиков      
	 (прокачанная)\n\n\n
	\n	Ветка скиллов Шту
	рм и Поддержка   
	 (прокачанная)\n\n\n
	\n	Ветка скиллов по
	соха востановлен
	ия (прокачанная)\n\
	n\n\n	Ветка скиллов Вампир или 
	Вервольф  (прокачанная)\n\n\n\n	 \
	n\n\n\n	Минимальный  item-сетап: https://eso-hub.com/ru
	/builds/detactor/98c3456e-8da9-4731-96b0-2fbacd51c815/universalnyi-pvp-bil
	d-dlia-nacinaiushhix(возможност
	ь коррекции до начала рейда) второй 
	 item-сетап: https://eso-hub.com/ru/builds/detactor/98f25cbc-1387-4
	13e-9ec1-a4cc8f6a45e5/universalnyi-bild-zashhitnika-kreposti\n\n\n\n	
	Другие сборки об
	суждается до рейда!!!\n\
	n\n\n	Зелье : Эссенция Н
	епоколебимости\n\n\
	n\n	Яды     : Яд
	 Беглеца\, Яд Высасы
	вания Магии или Яд
	 Высасывания Запаса
	 Сил\n\n\n\n	Для вкл
	ючения Вас в состав рейда
	 скиньте скрин Вашей сборки в личку РЛ !!!\
	n\n
DTSTART:20230517T173000Z
DTEND:20230517T193000Z
END:VEVENT
END:VCALENDAR
