BEGIN:VCALENDAR
VERSION:2.0
PRODID:-//InvisionCommunity Events 4.7.14//EN
METHOD:PUBLISH
CALSCALE:GREGORIAN
REFRESH-INTERVAL:PT15M
X-PUBLISHED-TTL:PT15M
X-WR-CALNAME:The Elder Scrolls Online
NAME:The Elder Scrolls Online
BEGIN:VTIMEZONE
TZID:Europe/London
TZURL:http://tzurl.org/zoneinfo/Europe/London
X-LIC-LOCATION:Europe/London
BEGIN:DAYLIGHT
TZOFFSETFROM:+0000
TZOFFSETTO:+0100
TZNAME:BST
DTSTART:20230326T020000Z
RRULE:FREQ=YEARLY;BYMONTH=3;BYDAY=-1SU
END:DAYLIGHT
BEGIN:STANDARD
TZOFFSETFROM:+0100
TZOFFSETTO:+0000
TZNAME:GMT
DTSTART:20231029T020000Z
RRULE:FREQ=YEARLY;BYMONTH=10;BYDAY=-1SU
END:STANDARD
END:VTIMEZONE
BEGIN:VEVENT
SUMMARY:[TESO] Нормальное испытание Клау
	дрест +0 (nCR +0)
DTSTAMP:20230510T041940Z
SEQUENCE:0
UID:11377-1-afb15bc42254ad5fb0481ce5e9c8144d@forum.bandits-clan.ru
ORGANIZER;CN="Volibor":web@bandits-clan.ru
DESCRIPTION:\n	Пригла
	шаю всех желающих пройт
	и нормальное испытание Клаудрест +0 (nCR +
	0). РЛ - @Volibor\n\n\n\n	 \n\n\n\n	Необходимый соста
	в:\n\n\n\n	 \n\n\n\n	1 Танк\n\n\n\n	2 Лекаря\n\n\n\n
		9 Бойцов\n\n\n\n	Обязательные аддоны:\n\n\n\n	 \
	n\n\n\n	Bandits User Interface\n\n\n\n	Требования для
	 участия:\n\n\n\n	 \n\n\n\n	DLC Саммерсет
	 или подписка.\n\n\n\n	160 Очков Чем
	пиона\n\n\n\n	Discord и наличие микрофо
	на\n\n\n\n	Табард гильдии Daggerfall Bandits / Bandits Clan
	\n\n
DTSTART:20230511T180000Z
DTEND:20230511T180500Z
ATTENDEE;CN="Volibor";CUTYPE=INDIVIDUAL;PARTSTAT=ACCEPTED:we
	b@bandits-clan.ru
ATTENDEE;CN="RiverTardis";CUTYPE=INDIVIDUAL;PARTSTAT=ACCEPTE
	D:web@bandits-clan.ru
ATTENDEE;CN="stilyagaonodin";CUTYPE=INDIVIDUAL;PARTSTAT=ACCE
	PTED:web@bandits-clan.ru
END:VEVENT
END:VCALENDAR
