BEGIN:VCALENDAR
VERSION:2.0
PRODID:-//InvisionCommunity Events 4.7.14//EN
METHOD:PUBLISH
CALSCALE:GREGORIAN
REFRESH-INTERVAL:PT15M
X-PUBLISHED-TTL:PT15M
X-WR-CALNAME:The Elder Scrolls Online
NAME:The Elder Scrolls Online
BEGIN:VTIMEZONE
TZID:Europe/London
TZURL:http://tzurl.org/zoneinfo/Europe/London
X-LIC-LOCATION:Europe/London
BEGIN:DAYLIGHT
TZOFFSETFROM:+0000
TZOFFSETTO:+0100
TZNAME:BST
DTSTART:20230326T020000Z
RRULE:FREQ=YEARLY;BYMONTH=3;BYDAY=-1SU
END:DAYLIGHT
BEGIN:STANDARD
TZOFFSETFROM:+0100
TZOFFSETTO:+0000
TZNAME:GMT
DTSTART:20231029T020000Z
RRULE:FREQ=YEARLY;BYMONTH=10;BYDAY=-1SU
END:STANDARD
END:VTIMEZONE
BEGIN:VEVENT
SUMMARY:[TESO] Ветеранское 
	испытание Залы Фабрикации +Хард Мод (vHO
	F+HM) не обучайка
DTSTAMP:20230509T200459Z
SEQUENCE:0
UID:11376-1-afb15bc42254ad5fb0481ce5e9c8144d@forum.bandits-clan.ru
ORGANIZER;CN="Yurikon":web@bandits-clan.ru
DESCRIPTION:\n	Для дд дпс 90к+ (
	хэви атакеров в ре
	йд не беру). По кл
	ассам требовани
	й нет.\n\n	Если 
	найдётся Уд
	алой дамагер 
	в Каталисте б
	удет замечательн
	о. Если найдётся ещё 
	и ДК в зене будем вооб
	ще шиковать.\n\n	Хил 
	1 СПК+Марадёр+симфони
	я \n\n	Хил 2 Йорвульд+Ав
	антюрист+плечо\n\n	О
	Т Перл+кримсон+назаре
	й\n\n	МТ ТТ+Йолно+Тре
	мор (место заня
	то мной)\n\n	Вс
	ем саппортам им
	еть прокаченный и 
	заморфленный в дешёвую вер
	сию пурдж.\n\n	\n\n	Необходимые аддо
	ны:\n\n	Hodor Reflexes (обязательно
	 проверить наличие обновлений)\n\n	Code's Combat
	 Alerts\n\n	Raid Notifaer\n\n	Хилам желательно иметь P
	urge Tracker\n\n	\n\n	Собираемся за 1
	0-15 минут до нач
	ала события\, бер
	ём с собой расхо
	дники и хорошее
	 настроение. \n
	\n	Одно место дд занято нубасом котор
	ого нельзя называть хД\n\n
DTSTART:20230513T120000Z
DTEND:20230513T120500Z
ATTENDEE;CN="Yurikon";CUTYPE=INDIVIDUAL;PARTSTAT=ACCEPTED:we
	b@bandits-clan.ru
ATTENDEE;CN="c@6aka";CUTYPE=INDIVIDUAL;PARTSTAT=ACCEPTED:web
	@bandits-clan.ru
ATTENDEE;CN="LawOfJulia";CUTYPE=INDIVIDUAL;PARTSTAT=ACCEPTED
	:web@bandits-clan.ru
ATTENDEE;CN="Егор Юрьевич";CUTYPE=INDIVIDUAL;PART
	STAT=ACCEPTED:web@bandits-clan.ru
ATTENDEE;CN="HolYBaaL";CUTYPE=INDIVIDUAL;PARTSTAT=ACCEPTED:w
	eb@bandits-clan.ru
ATTENDEE;CN="Oven";CUTYPE=INDIVIDUAL;PARTSTAT=ACCEPTED:web@b
	andits-clan.ru
END:VEVENT
END:VCALENDAR
