BEGIN:VCALENDAR
VERSION:2.0
PRODID:-//InvisionCommunity Events 4.7.14//EN
METHOD:PUBLISH
CALSCALE:GREGORIAN
REFRESH-INTERVAL:PT15M
X-PUBLISHED-TTL:PT15M
X-WR-CALNAME:Black Desert Online
NAME:Black Desert Online
BEGIN:VTIMEZONE
TZID:Europe/London
TZURL:http://tzurl.org/zoneinfo/Europe/London
X-LIC-LOCATION:Europe/London
BEGIN:DAYLIGHT
TZOFFSETFROM:+0000
TZOFFSETTO:+0100
TZNAME:BST
DTSTART:20230326T020000Z
RRULE:FREQ=YEARLY;BYMONTH=3;BYDAY=-1SU
END:DAYLIGHT
BEGIN:STANDARD
TZOFFSETFROM:+0100
TZOFFSETTO:+0000
TZNAME:GMT
DTSTART:20231029T020000Z
RRULE:FREQ=YEARLY;BYMONTH=10;BYDAY=-1SU
END:STANDARD
END:VTIMEZONE
BEGIN:VEVENT
SUMMARY:[BDO] Велл
DTSTAMP:20230508T105518Z
SEQUENCE:0
UID:11368-8-afb15bc42254ad5fb0481ce5e9c8144d@forum.bandits-clan.ru
ORGANIZER;CN="Pupezky":web@bandits-clan.ru
DESCRIPTION:\n	Поход на Велла.\n\n	На
	чало сбора группы в 22:
	30\n\n	Самому бежать
	 в Велию не нужно\, буд
	ет призыв участников
	 к пирсу в Велии\, в 22:3
	5. У вас появится флажок с
	 лево от мини карты.\n\n	Ка
	нал Серендия-3. \n\n	О
	тплытие состоится 
	в 22:40 по МСК на ги
	льдейской галер
	е. Если есть свой
	 транспорт\, может
	е воспользоваться 
	им.\n\n	После убийства босса\, плывём о
	братно в Велию. \n\n
DTSTART:20230510T200000Z
ATTENDEE;CN="Pupezky";CUTYPE=INDIVIDUAL;PARTSTAT=ACCEPTED:we
	b@bandits-clan.ru
END:VEVENT
END:VCALENDAR
