BEGIN:VCALENDAR
VERSION:2.0
PRODID:-//InvisionCommunity Events 4.7.14//EN
METHOD:PUBLISH
CALSCALE:GREGORIAN
REFRESH-INTERVAL:PT15M
X-PUBLISHED-TTL:PT15M
X-WR-CALNAME:The Elder Scrolls Online
NAME:The Elder Scrolls Online
BEGIN:VTIMEZONE
TZID:Europe/London
TZURL:http://tzurl.org/zoneinfo/Europe/London
X-LIC-LOCATION:Europe/London
BEGIN:DAYLIGHT
TZOFFSETFROM:+0000
TZOFFSETTO:+0100
TZNAME:BST
DTSTART:20230326T020000Z
RRULE:FREQ=YEARLY;BYMONTH=3;BYDAY=-1SU
END:DAYLIGHT
BEGIN:STANDARD
TZOFFSETFROM:+0100
TZOFFSETTO:+0000
TZNAME:GMT
DTSTART:20231029T020000Z
RRULE:FREQ=YEARLY;BYMONTH=10;BYDAY=-1SU
END:STANDARD
END:VTIMEZONE
BEGIN:VEVENT
SUMMARY:[TESO] Ветеранское
	 испытание Изоляционный Санктуарий (vAS +0)
DTSTAMP:20230505T120939Z
SEQUENCE:0
UID:11344-1-afb15bc42254ad5fb0481ce5e9c8144d@forum.bandits-clan.ru
ORGANIZER;CN="Stonechump":web@bandits-clan.ru
DESCRIPTION:\n	Пригл
	ашаю вс
	ех жел
	ающих по
	пробовать пройт
	и ветеранское испытан
	ие Изоляционный Санктуарий (vAS +
	0)\n\n\n\n	Требования:\n\n\n\n	\n		Звание Vet
	eran Bandit / Ветеран Бандит или выше
	\n	\n	\n		Discord и наличие микрофона\n	\n	
	\n		Табард гильдии Daggerfall Bandits / Bandits Clan / Bandi
	ts Force\n	\n	\n		Игровое дополне
	ние Заводной город или подписка\n	\n
	\n\n\n	Состав:\n\n\n\n	\n		2 танка\n	\n	\n		2 лекаря\n	
	\n	\n		8 дд\n	\n\n\n\n	Обязательные аддоны:\n\n\n\n	\n
			RaidNotifier (https://www.esoui.com/downloads/info1355-RaidNotifierUpdat
	ed.html)\n	\n	\n		Hodor Reflexes (Необходим для г
	орна и колосса) (https://www.esoui.com/downloads/info2311-Hodo
	rReflexes-DPSUltimateShare.html)\n	\n	\n		Code's Combat Alerts (https://ww
	w.esoui.com/downloads/info1855-CodesCombatAlerts.html)\n	\n	\n		Asylum Tra
	cker (https://www.esoui.com/downloads/info2111-AsylumTracker.html)\n	\n	\n
			AsylumTracker.LangPatch (https://www.esoui.com/downloads/info2847-Asylum
	Tracker.LangPatch.html)\n	\n\n\n\n	Для 
	подтверждения участ
	ия необходимо отметиться
	 в календаре:\n\n\n\n	\n		Нажа
	ть кнопку Пойду\n	\n	\n		Указ
	ать свою роль и ID в ком
	ментариях\n	\n	\n		Е
	сли по каким-т
	о причинам не 
	получится прийти
	\, отписаться в комментариях\, 
	изменив свое сообщение.\n	\n\n\n\n\n	 \n\n
DTSTART:20230505T160000Z
ATTENDEE;CN="Никитка";CUTYPE=INDIVIDUAL;PARTSTAT=ACCE
	PTED:web@bandits-clan.ru
ATTENDEE;CN="Stonechump";CUTYPE=INDIVIDUAL;PARTSTAT=ACCEPTED
	:web@bandits-clan.ru
END:VEVENT
END:VCALENDAR
