BEGIN:VCALENDAR
VERSION:2.0
PRODID:-//InvisionCommunity Events 4.7.14//EN
METHOD:PUBLISH
CALSCALE:GREGORIAN
REFRESH-INTERVAL:PT15M
X-PUBLISHED-TTL:PT15M
X-WR-CALNAME:The Elder Scrolls Online
NAME:The Elder Scrolls Online
BEGIN:VTIMEZONE
TZID:Europe/London
TZURL:http://tzurl.org/zoneinfo/Europe/London
X-LIC-LOCATION:Europe/London
BEGIN:DAYLIGHT
TZOFFSETFROM:+0000
TZOFFSETTO:+0100
TZNAME:BST
DTSTART:20230326T020000Z
RRULE:FREQ=YEARLY;BYMONTH=3;BYDAY=-1SU
END:DAYLIGHT
BEGIN:STANDARD
TZOFFSETFROM:+0100
TZOFFSETTO:+0000
TZNAME:GMT
DTSTART:20231029T020000Z
RRULE:FREQ=YEARLY;BYMONTH=10;BYDAY=-1SU
END:STANDARD
END:VTIMEZONE
BEGIN:VEVENT
SUMMARY:[TESO] Ветеранское испытание Кл
	аудрест +0 (vCR +0)
DTSTAMP:20230501T055304Z
SEQUENCE:0
UID:11333-1-afb15bc42254ad5fb0481ce5e9c8144d@forum.bandits-clan.ru
ORGANIZER;CN="Kubik":web@bandits-clan.ru
DESCRIPTION:\n	Пригла
	шаю всех желающих пройти
	 ветеранское испытание Клауд
	рест +0 (vCR +0).\n\n\n\n	Необходимый состав:\n\
	n\n\n	\n		2 Танка\n	\n	\n		2 Лекаря\n	\n	\n		8 Б
	ойцов\n	\n\n\n\n	Обязательные аддоны:\n\n\n\n	\n		R
	aidNotifier (https://www.esoui.com/downloads/info1355-RaidNotifierUpdated.
	html)\n	\n	\n		OdySupportIcons (https://www.esoui.com/downloads/info2834-O
	dySupportIcons-GroupRoleIconsMore.html). Или 
	аналогичны
	е аддоны (д
	обавляющи
	е иконки ро
	лей над головой п
	ерсонажей и увеличенную иконку 
	короны(рейд-лидера))\n	\n	\n		Hodo
	r Reflexes (Необходим для горна и колосса) (https
	://www.esoui.com/downloads/info2311-HodorReflexes-DPSUltimateShare.html)\n
		\n	\n		Code's Combat Alerts (https://www.esoui.com/downloads/info1855-Cod
	esCombatAlerts.html)\n	\n	\n		HowToCloudrest (https://www.esoui.com/downlo
	ads/info3497-HowToCloudrest.html)\n	\n\n\n\n	Требовани
	я для участия:\n\n\n\n	\n		DLC Саммер
	сет или подписка.\n	\n	\n		Звание Veteran Bandi
	t\n	\n	\n		Discord и наличие микрофона\n	\n	
	\n		Табард гильдии\n	
	\n\n\n\n	Для подтверж
	дения участия необхо
	димо отметиться в календаре:
	\n\n\n\n	\n		Нажать кнопку Пойду
	\n	\n	\n		Указать свою роль и ID
	 в комментариях\n	\n	\
	n		Если по каки
	м-то причинам 
	не получится п
	рийти\, отписаться в к
	омментариях\, изменив свое
	 сообщение\n	\n\n\n\n	Описание испытания:\n\n\n
	\n\n	 \n\n
DTSTART:20230501T140000Z
DTEND:20230501T140500Z
ATTENDEE;CN="Kubik";CUTYPE=INDIVIDUAL;PARTSTAT=ACCEPTED:web@
	bandits-clan.ru
ATTENDEE;CN="EKB96";CUTYPE=INDIVIDUAL;PARTSTAT=ACCEPTED:web@
	bandits-clan.ru
ATTENDEE;CN="Hvarna";CUTYPE=INDIVIDUAL;PARTSTAT=ACCEPTED:web
	@bandits-clan.ru
ATTENDEE;CN="c@6aka";CUTYPE=INDIVIDUAL;PARTSTAT=ACCEPTED:web
	@bandits-clan.ru
ATTENDEE;CN="Be1Fgor";CUTYPE=INDIVIDUAL;PARTSTAT=ACCEPTED:we
	b@bandits-clan.ru
ATTENDEE;CN="DimkoR";CUTYPE=INDIVIDUAL;PARTSTAT=ACCEPTED:web
	@bandits-clan.ru
ATTENDEE;CN="HolYBaaL";CUTYPE=INDIVIDUAL;PARTSTAT=ACCEPTED:w
	eb@bandits-clan.ru
ATTENDEE;CN="ycbl74";CUTYPE=INDIVIDUAL;PARTSTAT=ACCEPTED:web
	@bandits-clan.ru
ATTENDEE;CN="cotikred";CUTYPE=INDIVIDUAL;PARTSTAT=ACCEPTED:w
	eb@bandits-clan.ru
ATTENDEE;CN="Stonechump";CUTYPE=INDIVIDUAL;PARTSTAT=ACCEPTED
	:web@bandits-clan.ru
ATTENDEE;CN="Werwolfe";CUTYPE=INDIVIDUAL;PARTSTAT=ACCEPTED:w
	eb@bandits-clan.ru
END:VEVENT
END:VCALENDAR
