BEGIN:VCALENDAR
VERSION:2.0
PRODID:-//InvisionCommunity Events 4.7.14//EN
METHOD:PUBLISH
CALSCALE:GREGORIAN
REFRESH-INTERVAL:PT15M
X-PUBLISHED-TTL:PT15M
X-WR-CALNAME:The Elder Scrolls Online
NAME:The Elder Scrolls Online
BEGIN:VTIMEZONE
TZID:Europe/London
TZURL:http://tzurl.org/zoneinfo/Europe/London
X-LIC-LOCATION:Europe/London
BEGIN:DAYLIGHT
TZOFFSETFROM:+0000
TZOFFSETTO:+0100
TZNAME:BST
DTSTART:20230326T020000Z
RRULE:FREQ=YEARLY;BYMONTH=3;BYDAY=-1SU
END:DAYLIGHT
BEGIN:STANDARD
TZOFFSETFROM:+0100
TZOFFSETTO:+0000
TZNAME:GMT
DTSTART:20231029T020000Z
RRULE:FREQ=YEARLY;BYMONTH=10;BYDAY=-1SU
END:STANDARD
END:VTIMEZONE
BEGIN:VEVENT
SUMMARY:[TESO] Фановый ПВП-рейд обо
	ротнями в Имперском городе
DTSTAMP:20230428T203707Z
SEQUENCE:0
UID:11311-1-afb15bc42254ad5fb0481ce5e9c8144d@forum.bandits-clan.ru
ORGANIZER;CN="Prav":web@bandits-clan.ru
DESCRIPTION:\n	\n\n\n\n	 \n\n\n\n	Фано
	вый ПВП-рейд оборотн
	ями в Имперском горо
	де (Без ОГ)\n\n\n\n	 Дымк
	а стелилась по г
	ранитным камням
	. \n\n	Боль и стр
	адание витали 
	по улицам Импер
	ского города. Возд
	ух был тяжел. Вот-
	вот что-то измен
	ится. \n\n	Волк
	 появился возл
	е ворот Храмово
	го района. Огром
	ный серый волк. 
	Он встал на лапы\,
	 всмотрелся вдал
	ь и шумно втянул 
	воздух . Учуяв вр
	ага\, он обнажи
	л клыки и гроз
	но зарычал. Тут 
	же словно из ниот
	куда появился еще од
	ин большой  волк\, и е
	ще один\, еще и еще. Сер
	ые\, черные\, огромные и 
	чуть более мелкие.\n\n	Ста
	я.\n\n	В район зашла 
	стая.\n\n	Вой 
	из десятка 
	волчьих гл
	оток сотряс
	 смрадный во
	здух осажденн
	ого города. И
	з инвиза вс
	крылся воин
	 Пакта и брос
	ился прочь.
	 Вожак стреми
	тельным прыжк
	ом настиг жертв
	у. Воин взмахнул м
	ечом и\, волоча с
	ломанную ногу\,
	 попытался уйти
	 в тень\, но об
	оротни Кове
	нанта один 
	за одним взв
	ивались в пр
	ыжке и сокрушите
	льно падали на бедо
	лагу. Они сломали е
	го полностью.\n\n	Кр
	овь\, кишки и камни Те
	львара — все\, что остал
	ось от Клинка ночи.\n\
	n	Да\, это был не бой\,
	 это — охота. Охо
	та бандитской ста
	и Ковенанта.\n\n	П
	рячьтесь даэдра\, прячьт
	есь враги. Мы идем и всех на
	йдем!\n\n	У-у-у-у-у.\n\n	Прыг-скок-прыг-
	скок.  Атака…\n\n	 \n\n\n\n	\n		\n	\n\n\n\n	 \n
	\n\n\n	\n		Время: суббота в 21-00\, 
	продолжительность 
	2 часа\n	\n	\n		Минима
	льное количество
	 волков для рейда: 8 
	человек\, отвечающи
	х требованиям.\n	\n	
	\n		Максимальное
	 количество: не ограни
	чено! Можем и двойным р
	ейдом пойти \n	\n	\n		Лива до
	 окончания рейда не
	т.\n	\n	\n		Рейд пр
	оходит пр
	и наборе м
	инимального
	 количества  участнико
	в\, отвечающих требованиям (подробнее http
	s://forum.bandits-clan.ru/topic/76871-фанов
	ой-пвп-рейд-оборотн
	ями-в-имперском-городе/ )\n		\n
				Дополнительные требов
	ания:\n		\n	\n	\n		Альянс - Дагг
	ерфолл Ковенанта\n	\n	\n		10 уровень персо
	нажа\n	\n	\n		Discord\n	\n	\n		Табард гильдии\n\n		 \n		
	\n			 \n		\n	\n\n
DTSTART:20230429T180000Z
DTEND:20230429T200000Z
ATTENDEE;CN="Prav";CUTYPE=INDIVIDUAL;PARTSTAT=ACCEPTED:web@b
	andits-clan.ru
END:VEVENT
END:VCALENDAR
