BEGIN:VCALENDAR
VERSION:2.0
PRODID:-//InvisionCommunity Events 4.7.14//EN
METHOD:PUBLISH
CALSCALE:GREGORIAN
REFRESH-INTERVAL:PT15M
X-PUBLISHED-TTL:PT15M
X-WR-CALNAME:The Elder Scrolls Online
NAME:The Elder Scrolls Online
BEGIN:VTIMEZONE
TZID:Europe/London
TZURL:http://tzurl.org/zoneinfo/Europe/London
X-LIC-LOCATION:Europe/London
BEGIN:DAYLIGHT
TZOFFSETFROM:+0000
TZOFFSETTO:+0100
TZNAME:BST
DTSTART:20230326T020000Z
RRULE:FREQ=YEARLY;BYMONTH=3;BYDAY=-1SU
END:DAYLIGHT
BEGIN:STANDARD
TZOFFSETFROM:+0100
TZOFFSETTO:+0000
TZNAME:GMT
DTSTART:20231029T020000Z
RRULE:FREQ=YEARLY;BYMONTH=10;BYDAY=-1SU
END:STANDARD
END:VTIMEZONE
BEGIN:VEVENT
SUMMARY:[TESO] (Фарм) Ветеранская Каменная Р
	оща (vRG)
DTSTAMP:20230427T085218Z
SEQUENCE:0
UID:11310-1-afb15bc42254ad5fb0481ce5e9c8144d@forum.bandits-clan.ru
ORGANIZER;CN="c@6aka":web@bandits-clan.ru
DESCRIPTION:\n	 \n\n\n\n	Обяз
	ательные аддоны необх
	одимо настроить до начала
	 события.\n\n\n\n	РТ 1.5 часа. Стремим
	ся к 2м забегам.\n\n\n\n	\n		2 Танка\n	\n	\n		
	2 Лекаря\n	\n	\n		8 Бойцов\n	\n\n\n\n	Обязат
	ельные аддоны:\n\n\n\n	\n		RaidNotifier (https://www.esoui.com
	/downloads/info1355-RaidNotifierUpdated.html)\n	\n	\n		OdySupportIcons (ht
	tps://www.esoui.com/downloads/info2834-OdySupportIcons-GroupRoleIconsMore.
	html).\n	\n	\n		Code's Combat Alerts (https://www.esoui.com/downloads/info
	1855-CodesCombatAlerts.html)\n	\n	\n		Qcell's Rockgrove Helper\n	\n	\n		Qc
	ell's RGHelper. LangPatch\n	\n	\n		Improved Death Recap (https://www.esoui
	.com/downloads/info1319-ImprovedDeathRecap.html)\n	\n\n\n\n	Т
	ребования для участия:\n\n\n\n	\n
			Звание Master Bandit/Мастер Ба
	ндит и выше.\n	\n	\n		Пройденный т
	риал с гильдией\n	\n	\n		Discord и
	 наличие микрофона\n	\n\n\n\n	Необх
	одимые сеты\n\n\n\n	Для хилов\n\n\n\n
		\n		Мародер\, СПК и симфо
	ния\n	\n	\n		Йорвульд\, авант
	юрист и наплечник разрушения\n	
	\n\n\n\n	Для танков\n\n\n\n	\n	
		Мейн - Приливная вол
	на верх\, коготь йолна
	крина низ\, сотрясатель
	\n	\n	\n		Офф - Перламу
	тровый оберег 
	верх\, мощный натиск низ
	(Алая клтява)\, энкрат
	ис/сотрясатель\n	\
	n\n\n\n	Для подтвержд
	ения участия необход
	имо отметиться в календаре:\
	n\n\n\n	\n		Нажать кнопку Пойду
	\n	\n	\n		Указать свою роль и ID
	 в комментариях\n	\n	\
	n		Если по каки
	м-то причинам 
	не получится п
	рийти\, отписаться в комме
	нтариях\, изменив свое сооб
	щение\n	\n\n\n\n	\n\n	Это н
	е обучающий 
	забег\,  пред
	полагается чт
	о вы в достато
	чной мере изучи
	ли механики\, ч
	тобы падать 
	не от отсут
	ствия мастер
	ства\, а толь
	ко от неуда
	чно сложивш
	ихся обстоят
	ельств. На ус
	мотрение РЛа
	 кандидаты в ре
	йд могут быть
	 не допущены
	 к событию и
	ли удалены из него
	 в случае несоответствия требуе
	мому уровню навыка.\n\n
DTSTART:20230428T160000Z
ATTENDEE;CN="vegasmoon";CUTYPE=INDIVIDUAL;PARTSTAT=ACCEPTED:
	web@bandits-clan.ru
ATTENDEE;CN="DrMisanthrope";CUTYPE=INDIVIDUAL;PARTSTAT=ACCEP
	TED:web@bandits-clan.ru
ATTENDEE;CN="c@6aka";CUTYPE=INDIVIDUAL;PARTSTAT=ACCEPTED:web
	@bandits-clan.ru
ATTENDEE;CN="HolYBaaL";CUTYPE=INDIVIDUAL;PARTSTAT=ACCEPTED:w
	eb@bandits-clan.ru
ATTENDEE;CN="Cuarsith";CUTYPE=INDIVIDUAL;PARTSTAT=ACCEPTED:w
	eb@bandits-clan.ru
ATTENDEE;CN="LawOfJulia";CUTYPE=INDIVIDUAL;PARTSTAT=ACCEPTED
	:web@bandits-clan.ru
ATTENDEE;CN="Heymexa";CUTYPE=INDIVIDUAL;PARTSTAT=ACCEPTED:we
	b@bandits-clan.ru
ATTENDEE;CN="ycbl74";CUTYPE=INDIVIDUAL;PARTSTAT=ACCEPTED:web
	@bandits-clan.ru
ATTENDEE;CN="moonston";CUTYPE=INDIVIDUAL;PARTSTAT=ACCEPTED:w
	eb@bandits-clan.ru
ATTENDEE;CN="Yurikon";CUTYPE=INDIVIDUAL;PARTSTAT=ACCEPTED:we
	b@bandits-clan.ru
ATTENDEE;CN="elqwero";CUTYPE=INDIVIDUAL;PARTSTAT=ACCEPTED:we
	b@bandits-clan.ru
ATTENDEE;CN="Be1Fgor";CUTYPE=INDIVIDUAL;PARTSTAT=ACCEPTED:we
	b@bandits-clan.ru
END:VEVENT
END:VCALENDAR
