BEGIN:VCALENDAR
VERSION:2.0
PRODID:-//InvisionCommunity Events 4.7.14//EN
METHOD:PUBLISH
CALSCALE:GREGORIAN
REFRESH-INTERVAL:PT15M
X-PUBLISHED-TTL:PT15M
X-WR-CALNAME:The Elder Scrolls Online
NAME:The Elder Scrolls Online
BEGIN:VTIMEZONE
TZID:Europe/London
TZURL:http://tzurl.org/zoneinfo/Europe/London
X-LIC-LOCATION:Europe/London
BEGIN:DAYLIGHT
TZOFFSETFROM:+0000
TZOFFSETTO:+0100
TZNAME:BST
DTSTART:20230326T020000Z
RRULE:FREQ=YEARLY;BYMONTH=3;BYDAY=-1SU
END:DAYLIGHT
BEGIN:STANDARD
TZOFFSETFROM:+0100
TZOFFSETTO:+0000
TZNAME:GMT
DTSTART:20231029T020000Z
RRULE:FREQ=YEARLY;BYMONTH=10;BYDAY=-1SU
END:STANDARD
END:VTIMEZONE
BEGIN:VEVENT
SUMMARY:[TESO] (Обучающий) Ветеранская Ка
	менная Роща (vRG)
DTSTAMP:20230425T223120Z
SEQUENCE:0
UID:11309-1-afb15bc42254ad5fb0481ce5e9c8144d@forum.bandits-clan.ru
ORGANIZER;CN="c@6aka":web@bandits-clan.ru
DESCRIPTION:\n	 \n\n\n\n	Обяз
	ательные аддоны необ
	ходимо настроить до н
	ачала события.\n\n\n\n	РТ
	 2 часа. При нормальном
	 заходе\, идем на второй.\n\n\n\n	
	Необходимый состав:\n\n\n\n	\n		2 Танка\n
		\n	\n		2 Лекаря\n	\n	\n		8 Бойцов\n	\n\n\n\
	n	Обязательные аддоны:\n\n\n\n	\n		RaidNotifier (https:/
	/www.esoui.com/downloads/info1355-RaidNotifierUpdated.html)\n	\n	\n		OdySu
	pportIcons (https://www.esoui.com/downloads/info2834-OdySupportIcons-Group
	RoleIconsMore.html).\n	\n	\n		Code's Combat Alerts (https://www.esoui.com/
	downloads/info1855-CodesCombatAlerts.html)\n	\n	\n		Qcell's Rockgrove Help
	er\n	\n	\n		Qcell's RGHelper. LangPatch\n	\n	\n		Improved Death Recap (htt
	ps://www.esoui.com/downloads/info1319-ImprovedDeathRecap.html)\n	\n\n\n\n	
	Требования для участия:\n\n\
	n\n	\n		Звание Ветеран Бандит ил
	и выше\n	\n	\n		Discord и наличие мик
	рофона\n	\n\n\n\n	Необходимые сеты\n\n
	\n\n	Для хилов\n\n\n\n	\n		Мародер\, 
	СПК и симфония\n	\n	\n		
	Йорвульд\, авантюрист и нап
	лечник разрушения\n	\n\n\n\n	Д
	ля танков\n\n\n\n	\n		Ме
	йн - Приливная волна в
	ерх\, коготь йолнакрин
	а низ\, сотрясатель\n	\
	n	\n		Офф - Перламутро
	вый оберег верх\,
	 мощный натиск низ(Алая
	 клтява)\, энкратис/с
	отрясатель\n	\n\n\
	n\n	Для подтверждения
	 участия необходимо 
	отметиться в календаре:\n\n\
	n\n	\n		Нажать кнопку Пойду
	\n	\n	\n		Указать свою роль и ID
	 в комментариях\n	\n	\
	n		Если по каки
	м-то причинам 
	не получится п
	рийти\, отписаться в комме
	нтариях\, изменив свое сообщение\n	\n\n\n\n	\n
	\n	 \n\n
DTSTART:20230429T120000Z
ATTENDEE;CN="c@6aka";CUTYPE=INDIVIDUAL;PARTSTAT=ACCEPTED:web
	@bandits-clan.ru
ATTENDEE;CN="NekrosOldSchool";CUTYPE=INDIVIDUAL;PARTSTAT=ACC
	EPTED:web@bandits-clan.ru
ATTENDEE;CN="Heymexa";CUTYPE=INDIVIDUAL;PARTSTAT=ACCEPTED:we
	b@bandits-clan.ru
ATTENDEE;CN="LawOfJulia";CUTYPE=INDIVIDUAL;PARTSTAT=ACCEPTED
	:web@bandits-clan.ru
ATTENDEE;CN="Matros25rus";CUTYPE=INDIVIDUAL;PARTSTAT=ACCEPTE
	D:web@bandits-clan.ru
ATTENDEE;CN="HolYBaaL";CUTYPE=INDIVIDUAL;PARTSTAT=ACCEPTED:w
	eb@bandits-clan.ru
ATTENDEE;CN="vegasmoon";CUTYPE=INDIVIDUAL;PARTSTAT=ACCEPTED:
	web@bandits-clan.ru
ATTENDEE;CN="АндрейАгур";CUTYPE=INDIVIDUAL;PARTSTA
	T=ACCEPTED:web@bandits-clan.ru
ATTENDEE;CN="Be1Fgor";CUTYPE=INDIVIDUAL;PARTSTAT=ACCEPTED:we
	b@bandits-clan.ru
END:VEVENT
END:VCALENDAR
