BEGIN:VCALENDAR
VERSION:2.0
PRODID:-//InvisionCommunity Events 4.7.14//EN
METHOD:PUBLISH
CALSCALE:GREGORIAN
REFRESH-INTERVAL:PT15M
X-PUBLISHED-TTL:PT15M
X-WR-CALNAME:Black Desert Online
NAME:Black Desert Online
BEGIN:VTIMEZONE
TZID:Europe/London
TZURL:http://tzurl.org/zoneinfo/Europe/London
X-LIC-LOCATION:Europe/London
BEGIN:DAYLIGHT
TZOFFSETFROM:+0000
TZOFFSETTO:+0100
TZNAME:BST
DTSTART:20230326T020000Z
RRULE:FREQ=YEARLY;BYMONTH=3;BYDAY=-1SU
END:DAYLIGHT
BEGIN:STANDARD
TZOFFSETFROM:+0100
TZOFFSETTO:+0000
TZNAME:GMT
DTSTART:20231029T020000Z
RRULE:FREQ=YEARLY;BYMONTH=10;BYDAY=-1SU
END:STANDARD
END:VTIMEZONE
BEGIN:VEVENT
SUMMARY:[BDO] Велл
DTSTAMP:20230424T082555Z
SEQUENCE:0
UID:11305-8-afb15bc42254ad5fb0481ce5e9c8144d@forum.bandits-clan.ru
ORGANIZER;CN="Pupezky":web@bandits-clan.ru
DESCRIPTION:\n	Поход на Велла.\n\n	На
	чало сбора группы в 22:
	30\n\n	Самому бежать
	 в Велию не нужно\, будет
	 призыв участников к пирсу в
	 Велии\, в 22:35.\n\n	Канал Сере
	ндия-3. \n\n	Отплытие сост
	оится в 22:40 по МСК на
	 гильдейской галер
	е. \n\n	После убийства босса\, пл
	ывём обратно в Велию. \n\n\n\n	\n		\n			Требов
	ания:\n		\n\n		\n			\n				Discord\n			\n			\n				
	Желательно иметь хотя
	 бы несколько Слёз Эллиан (в случае г
	ибели).\n			\n		\n\n		\n			РЛ: @Belkanick\n		\n	\n\n
DTSTART:20230426T200000Z
ATTENDEE;CN="Pupezky";CUTYPE=INDIVIDUAL;PARTSTAT=ACCEPTED:we
	b@bandits-clan.ru
ATTENDEE;CN="Belkanick";CUTYPE=INDIVIDUAL;PARTSTAT=ACCEPTED:
	web@bandits-clan.ru
END:VEVENT
END:VCALENDAR
