BEGIN:VCALENDAR
VERSION:2.0
PRODID:-//InvisionCommunity Events 4.7.14//EN
METHOD:PUBLISH
CALSCALE:GREGORIAN
REFRESH-INTERVAL:PT15M
X-PUBLISHED-TTL:PT15M
X-WR-CALNAME:The Elder Scrolls Online
NAME:The Elder Scrolls Online
BEGIN:VTIMEZONE
TZID:Europe/London
TZURL:http://tzurl.org/zoneinfo/Europe/London
X-LIC-LOCATION:Europe/London
BEGIN:DAYLIGHT
TZOFFSETFROM:+0000
TZOFFSETTO:+0100
TZNAME:BST
DTSTART:20230326T020000Z
RRULE:FREQ=YEARLY;BYMONTH=3;BYDAY=-1SU
END:DAYLIGHT
BEGIN:STANDARD
TZOFFSETFROM:+0100
TZOFFSETTO:+0000
TZNAME:GMT
DTSTART:20231029T020000Z
RRULE:FREQ=YEARLY;BYMONTH=10;BYDAY=-1SU
END:STANDARD
END:VTIMEZONE
BEGIN:VEVENT
SUMMARY:[TESO] PvP-рейд в Имперский город
DTSTAMP:20230409T203737Z
SEQUENCE:0
UID:11230-1-afb15bc42254ad5fb0481ce5e9c8144d@forum.bandits-clan.ru
ORGANIZER;CN="Dzhev":web@bandits-clan.ru
DESCRIPTION:\n	Цель мероп
	риятия - фарм
	 камней Тель
	 Вар в имперском го
	роде на боссах з
	а Даггерфолльск
	ий Ковенант.\n\n
	\n\n	Выполня
	ем ежеднев
	ные квесты и фармим
	 боссов с периодич
	еской сдачей камне
	й в банк. \n\n\n\n	Р
	екомендуем п
	риходить на ме
	роприятие в Пв
	П-билде на вы
	живание - эт
	о повысит ва
	ши шансы дон
	ести свои 
	несметные 
	богатства до 
	банка и не пожертвовать их представи
	телям других альянсов.\n\n
DTSTART:20230416T140000Z
DTEND:20230416T160000Z
END:VEVENT
END:VCALENDAR
