BEGIN:VCALENDAR
VERSION:2.0
PRODID:-//InvisionCommunity Events 4.7.14//EN
METHOD:PUBLISH
CALSCALE:GREGORIAN
REFRESH-INTERVAL:PT15M
X-PUBLISHED-TTL:PT15M
X-WR-CALNAME:The Elder Scrolls Online
NAME:The Elder Scrolls Online
BEGIN:VTIMEZONE
TZID:Europe/London
TZURL:http://tzurl.org/zoneinfo/Europe/London
X-LIC-LOCATION:Europe/London
BEGIN:DAYLIGHT
TZOFFSETFROM:+0000
TZOFFSETTO:+0100
TZNAME:BST
DTSTART:20230326T020000Z
RRULE:FREQ=YEARLY;BYMONTH=3;BYDAY=-1SU
END:DAYLIGHT
BEGIN:STANDARD
TZOFFSETFROM:+0100
TZOFFSETTO:+0000
TZNAME:GMT
DTSTART:20231029T020000Z
RRULE:FREQ=YEARLY;BYMONTH=10;BYDAY=-1SU
END:STANDARD
END:VTIMEZONE
BEGIN:VEVENT
SUMMARY:[TESO] Ветеранское и
	спытание Санктум-Офидия +Хард Мод (vSO +HM)
DTSTAMP:20230409T070726Z
SEQUENCE:0
UID:11212-1-afb15bc42254ad5fb0481ce5e9c8144d@forum.bandits-clan.ru
ORGANIZER;CN="Kubik":web@bandits-clan.ru
DESCRIPTION:\n	 Пригл
	ашаю всех желающих 
	пройти испытание С
	анктум-Офидия вет. +Хард Мод.\n\
	n\n\n	Необходимый состав:\n\n\n\n	\n		2 Танка\
	n	\n	\n		2 Лекаря\n	\n	\n		8 Бойцов\n	\n\n\n
	\n	Обязательные аддоны:\n\n\n\n	\
	n		Нет\n	\n\n\n\n	Требования для участия
	:\n\n\n\n	\n		Звание Bandit или наличие 
	аттестации на звание Veteran Bandit\n	\
	n	\n		Discord и наличие микрофона\n	\n	\n		Т
	абард гильдии Daggerfall Bandits / Bandits Clan / Bandits Forc
	e\n	\n\n\n\n	Для подт
	верждения участия не
	обходимо отметиться в календ
	аре:\n\n\n\n	\n		Нажать кнопку По
	йду\n	\n	\n		Указать свою роль 
	и ID в комментариях\n	
	\n	\n		Если по каки
	м-то причинам 
	не получится п
	рийти\, отписаться в к
	омментариях\, изменив свое
	 сообщение\n	\n\n\n\n	Описание испытания:\n\n\n
	\n\n	 \n\n
DTSTART:20230416T160000Z
DTEND:20230416T160500Z
ATTENDEE;CN="Kubik";CUTYPE=INDIVIDUAL;PARTSTAT=ACCEPTED:web@
	bandits-clan.ru
ATTENDEE;CN="AxuJleC";CUTYPE=INDIVIDUAL;PARTSTAT=ACCEPTED:we
	b@bandits-clan.ru
ATTENDEE;CN="Vaflebot";CUTYPE=INDIVIDUAL;PARTSTAT=ACCEPTED:w
	eb@bandits-clan.ru
ATTENDEE;CN="Surt";CUTYPE=INDIVIDUAL;PARTSTAT=ACCEPTED:web@b
	andits-clan.ru
ATTENDEE;CN="Кошара";CUTYPE=INDIVIDUAL;PARTSTAT=ACCEPT
	ED:web@bandits-clan.ru
END:VEVENT
END:VCALENDAR
