BEGIN:VCALENDAR
VERSION:2.0
PRODID:-//InvisionCommunity Events 4.7.14//EN
METHOD:PUBLISH
CALSCALE:GREGORIAN
REFRESH-INTERVAL:PT15M
X-PUBLISHED-TTL:PT15M
X-WR-CALNAME:The Elder Scrolls Online
NAME:The Elder Scrolls Online
BEGIN:VTIMEZONE
TZID:Europe/London
TZURL:http://tzurl.org/zoneinfo/Europe/London
X-LIC-LOCATION:Europe/London
BEGIN:DAYLIGHT
TZOFFSETFROM:+0000
TZOFFSETTO:+0100
TZNAME:BST
DTSTART:20230326T020000Z
RRULE:FREQ=YEARLY;BYMONTH=3;BYDAY=-1SU
END:DAYLIGHT
BEGIN:STANDARD
TZOFFSETFROM:+0100
TZOFFSETTO:+0000
TZNAME:GMT
DTSTART:20231029T020000Z
RRULE:FREQ=YEARLY;BYMONTH=10;BYDAY=-1SU
END:STANDARD
END:VTIMEZONE
BEGIN:VEVENT
SUMMARY:[TESO] услож
	ненный режим Ветеранск
	ого испытания Солнечный Шпиль (vSS Hm)(Обуч
	ающий)
DTSTAMP:20230402T180151Z
SEQUENCE:0
UID:11191-1-afb15bc42254ad5fb0481ce5e9c8144d@forum.bandits-clan.ru
ORGANIZER;CN="elqwero":web@bandits-clan.ru
DESCRIPTION:\n	Пригл
	ашаю 
	всех 
	жела
	ющих 
	обуча
	ться прохо
	ждению усложне
	нного Ветеранско
	го испытания Солнечн
	ый Шпиль.\n\n\n\n	Сбор н
	ачинается за 15
	 минут до начала
	. Если Вы пришли
	 после времени нача
	ла рейда\, то ваше ме
	сто может занят д
	ругой игрок.\n\n\
	n\n	Обязател
	ьные аддоны
	 необходимо наст
	роить до начала событ
	ия. Рейд будет длится
	 до 3 часов\n\n\n\n	В
	 рейд по з
	аписи бер
	утся от 
	звания 
	супериор банд
	ит. Остальные ра
	ссматриваются в индиви
	дуальном порядке.\n\n\n\n	Необходимый
	 состав:\n\n\n\n	\n		2 Танка\n	\n	\n		2 Лекаря\n	\n
		\n		8 Бойцов\n	\n\n\n\n	Обязательные аддоны:\n\n\
	n\n	\n		RaidNotifier (https://www.esoui.com/downloads/info1355-RaidNotifie
	rUpdated.html)\n	\n	\n		OdySupportIcons (https://www.esoui.com/downloads/i
	nfo2834-OdySupportIcons-GroupRoleIconsMore.html)\n	\n	\n		Hodor Reflexes (
	Необходим для горна и колосса) (https://www.esoui
	.com/downloads/info2311-HodorReflexes-DPSUltimateShare.html)\n	\n	\n		Code
	's Combat Alerts (https://www.esoui.com/downloads/info1855-CodesCombatAler
	ts.html)\n	\n	\n		CrutchAlerts (https://www.esoui.com/downloads/info3137-C
	rutchAlerts.html)\n	\n	\n		HowToSunspire (https://www.esoui.com/downloads/
	info2430-HowToSunspire.html)\n	\n	\n		Improved Death Recap (https://www.es
	oui.com/downloads/info1319-ImprovedDeathRecap.html)(Для танков)\n
		\n\n\n\n	Рекомендуемые сборки:\n\n\n\n	\n		
	Для ДД:\n	\n\n\n\n	\n		Играть ук
	азанными ниже классами\n	\
	n	\n		Иметь ЩИТЫ на пан
	елях\n	\n	\n		Для некрома
	нтов иметь сборку ка
	талист\, алкош/мартиал\
	n	\n	\n		Для дк иметь сборку алкош\
	, энкратис\, дзен\n	\n\n\n\n	\n		Для хи
	лов\n	\n\n\n\n	\n		Играть указанн
	ыми ниже классами\n	\n	\n		Найт
	 блейд - Мародер\, СПК и с
	имфония\n	\n	\n		Варден
	 - Йорвульд\, авантю
	рист и наплечник 
	разрушения\n	\n	\n	
		Иметь Восстан
	авливающий посох
	 черной розы и скилл \
	"устойчивый оберег\" в морфе 
	\"целебный оберег\"\n	\n\n\n\n	\n		Для 
	танков\n	\n\n\n\n	\n		Играть ука
	занными ниже классами\
	n	\n	\n		Мейн(некр) - Пр
	иливная верх\, ёлнакр
	ин/саксхлил низ\, архи
	друид/сотрясатель\n	\n	\
	n		Офф(дк/варден) - Пер
	ламутр\, мощный натиск
	\, энкратис/сотрясатель\n	\n\n\n
	\n	Требования для участия:\n\n\n\n	\n
			Звание Superior Bandit/Супериор Бандит
	\n	\n	\n		Discord и наличие микрофона\n	\n	\
	n		Табард гильдии Daggerfall Bandits / Bandits Clan / Bandits
	 Force\n	\n	\n		Приобретенное дополнение Elsw
	eyr или ESO Plus\n	\n	\n		Прочитать оп
	исание события\n	\
	n\n\n\n	Для подтвержд
	ения участия необход
	имо отметиться в календаре:\
	n\n\n\n	\n		Нажать кнопку Пойду
	\n	\n	\n		Указать свою роль и ID
	 в комментариях\n	\n	\n		Осозна
	ть\, что рейд длится 3 ч
	аса\n	\n	\n		Если по к
	аким-то причи
	нам не получи
	тся прийти\, отписаться в 
	комментариях\, изменив свое сообщение\n	\n
	\n
DTSTART:20230405T170000Z
DTEND:20230405T170500Z
ATTENDEE;CN="elqwero";CUTYPE=INDIVIDUAL;PARTSTAT=ACCEPTED:we
	b@bandits-clan.ru
ATTENDEE;CN="vegasmoon";CUTYPE=INDIVIDUAL;PARTSTAT=ACCEPTED:
	web@bandits-clan.ru
ATTENDEE;CN="moonston";CUTYPE=INDIVIDUAL;PARTSTAT=ACCEPTED:w
	eb@bandits-clan.ru
ATTENDEE;CN="Heymexa";CUTYPE=INDIVIDUAL;PARTSTAT=ACCEPTED:we
	b@bandits-clan.ru
ATTENDEE;CN="Yurikon";CUTYPE=INDIVIDUAL;PARTSTAT=ACCEPTED:we
	b@bandits-clan.ru
ATTENDEE;CN="c@6aka";CUTYPE=INDIVIDUAL;PARTSTAT=ACCEPTED:web
	@bandits-clan.ru
ATTENDEE;CN="Fillith1556";CUTYPE=INDIVIDUAL;PARTSTAT=ACCEPTE
	D:web@bandits-clan.ru
ATTENDEE;CN="Be1Fgor";CUTYPE=INDIVIDUAL;PARTSTAT=ACCEPTED:we
	b@bandits-clan.ru
ATTENDEE;CN="iRaa58";CUTYPE=INDIVIDUAL;PARTSTAT=ACCEPTED:web
	@bandits-clan.ru
ATTENDEE;CN="АндрейАгур";CUTYPE=INDIVIDUAL;PARTSTA
	T=ACCEPTED:web@bandits-clan.ru
ATTENDEE;CN="bonart";CUTYPE=INDIVIDUAL;PARTSTAT=ACCEPTED:web
	@bandits-clan.ru
END:VEVENT
END:VCALENDAR
