BEGIN:VCALENDAR
VERSION:2.0
PRODID:-//InvisionCommunity Events 4.7.14//EN
METHOD:PUBLISH
CALSCALE:GREGORIAN
REFRESH-INTERVAL:PT15M
X-PUBLISHED-TTL:PT15M
X-WR-CALNAME:The Elder Scrolls Online
NAME:The Elder Scrolls Online
BEGIN:VTIMEZONE
TZID:Europe/London
TZURL:http://tzurl.org/zoneinfo/Europe/London
X-LIC-LOCATION:Europe/London
BEGIN:DAYLIGHT
TZOFFSETFROM:+0000
TZOFFSETTO:+0100
TZNAME:BST
DTSTART:20230326T020000Z
RRULE:FREQ=YEARLY;BYMONTH=3;BYDAY=-1SU
END:DAYLIGHT
BEGIN:STANDARD
TZOFFSETFROM:+0100
TZOFFSETTO:+0000
TZNAME:GMT
DTSTART:20231029T020000Z
RRULE:FREQ=YEARLY;BYMONTH=10;BYDAY=-1SU
END:STANDARD
END:VTIMEZONE
BEGIN:VEVENT
SUMMARY:[TESO] усло
	жненный режим Ветеранск
	ого испытания Изоляционный Санктуарий+2 
	(vAS+2)
DTSTAMP:20230402T175847Z
SEQUENCE:0
UID:11182-1-afb15bc42254ad5fb0481ce5e9c8144d@forum.bandits-clan.ru
ORGANIZER;CN="elqwero":web@bandits-clan.ru
DESCRIPTION:\n	Пригл
	ашаю об
	учатьс
	я прохо
	ждению 
	усложненного 
	режима Ветеранско
	го испытания Изоляцио
	нный Санктуарий+2.\n\n\n\
	n	Сбор начинается
	 за 15 минут до нач
	ала. Если Вы пр
	ишли после врем
	ени начала рейда\, то
	 ваше место может 
	занят другой игро
	к.\n\n\n\n	Обязат
	ельные адд
	оны необходим
	о настроить до начал
	а события. Рейд будет
	 длится до 3 часов\n
	\n\n\n	В рейд по 
	записи бе
	рутся от
	 звания 
	супериор банд
	ит. Остальные ра
	ссматриваются в индиви
	дуальном порядке.\n\n\n\n	Необходимый
	 состав:\n\n\n\n	\n		2 Танка\n	\n	\n		2/1 Лекаря\n	
	\n	\n		8/9 Бойцов\n	\n\n\n\n	Обязательные аддоны:\
	n\n\n\n	\n		RaidNotifier (https://www.esoui.com/downloads/info1355-RaidNot
	ifierUpdated.html)\n	\n	\n		OdySupportIcons (https://www.esoui.com/downloa
	ds/info2834-OdySupportIcons-GroupRoleIconsMore.html)\n	\n	\n		Hodor Reflex
	es (Необходим для горна и колосса) (https://www.e
	soui.com/downloads/info2311-HodorReflexes-DPSUltimateShare.html)\n	\n	\n		
	Code's Combat Alerts (https://www.esoui.com/downloads/info1855-CodesCombat
	Alerts.html)\n	\n	\n		Improved Death Recap (https://www.esoui.com/download
	s/info1319-ImprovedDeathRecap.html)\n	\n	\n		Asylum Tracker (https://www.e
	soui.com/downloads/info2111-AsylumTracker.html)\n	\n	\n		AsylumTracker.Lan
	gPatch (https://www.esoui.com/downloads/info2847-AsylumTracker.LangPatch.h
	tml)\n	\n\n\n\n	Рекомендуемые сборки:\n\n\n\n	\n	
		Для ДД:\n	\n\n\n\n	\n		Иг
	рать обязате
	льно рэнж би
	лдами (Ха бил
	ды подходят и ре
	комендуемы). Никаких двур
	учников\, кинжалов и прочего\n	\n\n\n\
	n	\n		Для хилов\n	\n\n\n\n	\n		Играт
	ь указанными ниже класса
	ми\n	\n	\n		Темплар (Бэк-кайт) 
	- Йорвульд\, СПК и Озезан
	/Симфония\n	\n	\n		Варде
	н (Фронт-Кайт) - Говорящий 
	с камнями\, авантюрист и Архидруид\n	
	\n\n\n\n	\n		Для танков\n	\n\n\n\n	
	\n		Мейн - Никаких зам
	едлений в чемпионке\
	n	\n	\n		Офф - Никаких замедле
	ний в чемпионке\, мундус конь\n
		\n\n\n\n	Требования для участия:\n\n\n\n	\
	n		Звание Superior Bandit/Супериор Бандит
	\n	\n	\n		Discord и наличие микрофона\n	\n	\
	n		Табард гильдии Daggerfall Bandits / Bandits Clan / Bandits
	 Force\n	\n	\n		Приобретенное дополнение Greymo
	or или ESO Plus\n	\n\n\n\n	
	Для подтверждения уч
	астия необходимо отме
	титься в календаре:\n\n\n\n	\
	n		Нажать кнопку Пойду\n	\n
		\n		Указать свою роль и ID
	 в комментариях\n	\n	\
	n		Если по каки
	м-то причинам 
	не получится п
	рийти\, отписаться в комментариях\,
	 изменив свое сообщение\n	\n\n
DTSTART:20230403T170000Z
DTEND:20230403T170500Z
ATTENDEE;CN="elqwero";CUTYPE=INDIVIDUAL;PARTSTAT=ACCEPTED:we
	b@bandits-clan.ru
ATTENDEE;CN="Treiden";CUTYPE=INDIVIDUAL;PARTSTAT=ACCEPTED:we
	b@bandits-clan.ru
ATTENDEE;CN="vegasmoon";CUTYPE=INDIVIDUAL;PARTSTAT=ACCEPTED:
	web@bandits-clan.ru
ATTENDEE;CN="Hvarna";CUTYPE=INDIVIDUAL;PARTSTAT=ACCEPTED:web
	@bandits-clan.ru
ATTENDEE;CN="АндрейАгур";CUTYPE=INDIVIDUAL;PARTSTA
	T=ACCEPTED:web@bandits-clan.ru
ATTENDEE;CN="Heymexa";CUTYPE=INDIVIDUAL;PARTSTAT=ACCEPTED:we
	b@bandits-clan.ru
END:VEVENT
END:VCALENDAR
