BEGIN:VCALENDAR
VERSION:2.0
PRODID:-//InvisionCommunity Events 4.7.14//EN
METHOD:PUBLISH
CALSCALE:GREGORIAN
REFRESH-INTERVAL:PT15M
X-PUBLISHED-TTL:PT15M
X-WR-CALNAME:The Elder Scrolls Online
NAME:The Elder Scrolls Online
BEGIN:VTIMEZONE
TZID:Europe/London
TZURL:http://tzurl.org/zoneinfo/Europe/London
X-LIC-LOCATION:Europe/London
BEGIN:DAYLIGHT
TZOFFSETFROM:+0000
TZOFFSETTO:+0100
TZNAME:BST
DTSTART:20230326T020000Z
RRULE:FREQ=YEARLY;BYMONTH=3;BYDAY=-1SU
END:DAYLIGHT
BEGIN:STANDARD
TZOFFSETFROM:+0100
TZOFFSETTO:+0000
TZNAME:GMT
DTSTART:20231029T020000Z
RRULE:FREQ=YEARLY;BYMONTH=10;BYDAY=-1SU
END:STANDARD
END:VTIMEZONE
BEGIN:VEVENT
SUMMARY:[TESO] Ветеранский Риф Зловещих
	 Парусов (vDSR)
DTSTAMP:20230327T144020Z
SEQUENCE:0
UID:11175-1-afb15bc42254ad5fb0481ce5e9c8144d@forum.bandits-clan.ru
ORGANIZER;CN="iRaa58":web@bandits-clan.ru
DESCRIPTION:\n	Приглаш
	аю всех желающих
	 пройти Ветеранск
	ое испытание Риф 
	Зловещих Парусов
	.\n\n\n\n	Обязательные
	 аддоны необходим
	о настроить до начала события.\
	n\n\n\n	Необходимый состав:\n\n\n\n	\n		2 Танк
	а\n	\n	\n		2 Лекаря\n	\n	\n		8 Бойцов\n	\n\
	n\n\n	Обязательные аддоны:\n\n\n\n	\n		RaidNotifier (htt
	ps://www.esoui.com/downloads/info1355-RaidNotifierUpdated.html)\n	\n	\n		O
	dySupportIcons (https://www.esoui.com/downloads/info2834-OdySupportIcons-G
	roupRoleIconsMore.html). Или ана
	логичные а
	ддоны (доб
	авляющие и
	конки роле
	й над головой персо
	нажей и увеличенную иконку короны(
	рейд-лидера))\n	\n	\n		Hodor Reflexes (
	Необходим для горна и колосса) (https://www.esoui
	.com/downloads/info2311-HodorReflexes-DPSUltimateShare.html)\n	\n	\n		Code
	's Combat Alerts (https://www.esoui.com/downloads/info1855-CodesCombatAler
	ts.html)\n	\n	\n		Qcells Dreadssail Reef Helper (https://www.esoui.com/dow
	nloads/info3354-QcellsDreadsailReefHelper.html)\n	\n	\n		Improved Death Re
	cap (https://www.esoui.com/downloads/info1319-ImprovedDeathRecap.html)\n	\
	n\n\n\n	Требования для участия:\n\n\n\n
		\n		Звание Master Bandit/Мастер Бандит и 
	выше.\n	\n	\n		Discord и наличие микрофо
	на\n	\n	\n		Табард гильдии\n	\n\n\n\
	n	Необходимые сеты\n\n\n\n	Для х
	илов\n\n\n\n	\n		Мародер\, СПК и
	 симфония\n	\n	\n		Йорвульд\
	, авантюрист и наплечник разруш
	ения\n	\n\n\n\n	Для танков\n\n\n\
	n	\n		Мейн - Приливна
	я волна верх\, коготь й
	олнакрина низ\, сотряс
	атель\n	\n	\n		Офф - Пе
	рламутровый оберег 
	верх\, мощный натиск н
	из\, энкратис/сотряс
	атель\n	\n\n\n\n	Д
	ля подтверждения уча
	стия необходимо отмети
	ться в календаре:\n\n\n\n	\n	
		Нажать кнопку Пойду\n	\n	\
	n		Указать свою роль и ID
	 в комментариях\n	\n	\
	n		Если по каки
	м-то причинам 
	не получится п
	рийти\, отписаться в комментариях\,
	 изменив свое сообщение\n	\n\n
DTSTART:20230401T170000Z
DTEND:20230401T170500Z
ATTENDEE;CN="iRaa58";CUTYPE=INDIVIDUAL;PARTSTAT=ACCEPTED:web
	@bandits-clan.ru
ATTENDEE;CN="ycbl74";CUTYPE=INDIVIDUAL;PARTSTAT=ACCEPTED:web
	@bandits-clan.ru
ATTENDEE;CN="HolYBaaL";CUTYPE=INDIVIDUAL;PARTSTAT=ACCEPTED:w
	eb@bandits-clan.ru
ATTENDEE;CN="elqwero";CUTYPE=INDIVIDUAL;PARTSTAT=ACCEPTED:we
	b@bandits-clan.ru
ATTENDEE;CN="moonston";CUTYPE=INDIVIDUAL;PARTSTAT=ACCEPTED:w
	eb@bandits-clan.ru
ATTENDEE;CN="vegasmoon";CUTYPE=INDIVIDUAL;PARTSTAT=ACCEPTED:
	web@bandits-clan.ru
ATTENDEE;CN="Nephilimeaw";CUTYPE=INDIVIDUAL;PARTSTAT=ACCEPTE
	D:web@bandits-clan.ru
ATTENDEE;CN="Fillith1556";CUTYPE=INDIVIDUAL;PARTSTAT=ACCEPTE
	D:web@bandits-clan.ru
ATTENDEE;CN="АндрейАгур";CUTYPE=INDIVIDUAL;PARTSTA
	T=ACCEPTED:web@bandits-clan.ru
ATTENDEE;CN="Stonechump";CUTYPE=INDIVIDUAL;PARTSTAT=ACCEPTED
	:web@bandits-clan.ru
ATTENDEE;CN="Auzdor";CUTYPE=INDIVIDUAL;PARTSTAT=ACCEPTED:web
	@bandits-clan.ru
ATTENDEE;CN="Ulfhedhnar";CUTYPE=INDIVIDUAL;PARTSTAT=ACCEPTED
	:web@bandits-clan.ru
END:VEVENT
END:VCALENDAR
