BEGIN:VCALENDAR
VERSION:2.0
PRODID:-//InvisionCommunity Events 4.7.14//EN
METHOD:PUBLISH
CALSCALE:GREGORIAN
REFRESH-INTERVAL:PT15M
X-PUBLISHED-TTL:PT15M
X-WR-CALNAME:The Elder Scrolls Online
NAME:The Elder Scrolls Online
BEGIN:VTIMEZONE
TZID:Europe/London
TZURL:http://tzurl.org/zoneinfo/Europe/London
X-LIC-LOCATION:Europe/London
BEGIN:DAYLIGHT
TZOFFSETFROM:+0000
TZOFFSETTO:+0100
TZNAME:BST
DTSTART:20230326T020000Z
RRULE:FREQ=YEARLY;BYMONTH=3;BYDAY=-1SU
END:DAYLIGHT
BEGIN:STANDARD
TZOFFSETFROM:+0100
TZOFFSETTO:+0000
TZNAME:GMT
DTSTART:20231029T020000Z
RRULE:FREQ=YEARLY;BYMONTH=10;BYDAY=-1SU
END:STANDARD
END:VTIMEZONE
BEGIN:VEVENT
SUMMARY:[TESO] Ветеранское испытание К
	аменная Роща (vRG)
DTSTAMP:20230327T143530Z
SEQUENCE:0
UID:11174-1-afb15bc42254ad5fb0481ce5e9c8144d@forum.bandits-clan.ru
ORGANIZER;CN="iRaa58":web@bandits-clan.ru
DESCRIPTION:\n	Приглаш
	аю всех желающих пройти
	 испытание Каменная роща вет. (vR
	G)\n\n\n\n	Необходимый состав:\n\n\n\n	\n		2 Т
	анка\n	\n	\n		2 Лекаря\n	\n	\n		8 Бойц
	ов\n	\n\n\n\n	Требования для участия:\n\n\n\n	
	\n		Звание Veteran Bandit\n	\n	\n		Discord и нали
	чие микрофона\n	\n	\n		Таб
	ард гильдии\n	\n\n\
	n\n	Для подтверждения
	 участия необходимо 
	отметиться в календаре:\n\n\
	n\n	\n		Нажать кнопку Пойду
	\n	\n	\n		Указать свою роль и ID
	 в комментариях\n	\n	\
	n		Если по каки
	м-то причинам 
	не получится п
	рийти\, отписаться в комментариях\,
	 изменив свое сообщение\n	\n\n
DTSTART:20230331T163000Z
DTEND:20230331T163500Z
ATTENDEE;CN="iRaa58";CUTYPE=INDIVIDUAL;PARTSTAT=ACCEPTED:web
	@bandits-clan.ru
ATTENDEE;CN="Mafusail13";CUTYPE=INDIVIDUAL;PARTSTAT=ACCEPTED
	:web@bandits-clan.ru
ATTENDEE;CN="АндрейАгур";CUTYPE=INDIVIDUAL;PARTSTA
	T=ACCEPTED:web@bandits-clan.ru
ATTENDEE;CN="Treiden";CUTYPE=INDIVIDUAL;PARTSTAT=ACCEPTED:we
	b@bandits-clan.ru
ATTENDEE;CN="Deferdo";CUTYPE=INDIVIDUAL;PARTSTAT=ACCEPTED:we
	b@bandits-clan.ru
ATTENDEE;CN="elqwero";CUTYPE=INDIVIDUAL;PARTSTAT=ACCEPTED:we
	b@bandits-clan.ru
ATTENDEE;CN="Simvol";CUTYPE=INDIVIDUAL;PARTSTAT=ACCEPTED:web
	@bandits-clan.ru
ATTENDEE;CN="vegasmoon";CUTYPE=INDIVIDUAL;PARTSTAT=ACCEPTED:
	web@bandits-clan.ru
ATTENDEE;CN="moonston";CUTYPE=INDIVIDUAL;PARTSTAT=ACCEPTED:w
	eb@bandits-clan.ru
ATTENDEE;CN="Stonechump";CUTYPE=INDIVIDUAL;PARTSTAT=ACCEPTED
	:web@bandits-clan.ru
END:VEVENT
END:VCALENDAR
