BEGIN:VCALENDAR
VERSION:2.0
PRODID:-//InvisionCommunity Events 4.7.14//EN
METHOD:PUBLISH
CALSCALE:GREGORIAN
REFRESH-INTERVAL:PT15M
X-PUBLISHED-TTL:PT15M
X-WR-CALNAME:The Elder Scrolls Online
NAME:The Elder Scrolls Online
BEGIN:VTIMEZONE
TZID:Europe/London
TZURL:http://tzurl.org/zoneinfo/Europe/London
X-LIC-LOCATION:Europe/London
BEGIN:DAYLIGHT
TZOFFSETFROM:+0000
TZOFFSETTO:+0100
TZNAME:BST
DTSTART:20230326T020000Z
RRULE:FREQ=YEARLY;BYMONTH=3;BYDAY=-1SU
END:DAYLIGHT
BEGIN:STANDARD
TZOFFSETFROM:+0100
TZOFFSETTO:+0000
TZNAME:GMT
DTSTART:20231029T020000Z
RRULE:FREQ=YEARLY;BYMONTH=10;BYDAY=-1SU
END:STANDARD
END:VTIMEZONE
BEGIN:VEVENT
SUMMARY:[TESO] PvP-рейд в Сиродиил
DTSTAMP:20230326T163452Z
SEQUENCE:0
UID:11169-1-afb15bc42254ad5fb0481ce5e9c8144d@forum.bandits-clan.ru
ORGANIZER;CN="strombers":web@bandits-clan.ru
DESCRIPTION:\n	PvP-рейд за Д
	аггерфолл Ковенанта\
	, можно подключиться в проц
	ессе.\n\n\n\n	Требования:\n\n\n\n	
	Альянс - Даггерфолл Ковенанта\n\
	n\n\n	10 уровень персонажа\n\n\n\n	Discord\n\n\n\n
		Табард гильдии\n\n
DTSTART:20230328T173000Z
DTEND:20230328T193000Z
RRULE:FREQ=DAILY;INTERVAL=1;UNTIL=20230330T000000
END:VEVENT
END:VCALENDAR
