BEGIN:VCALENDAR
VERSION:2.0
PRODID:-//InvisionCommunity Events 4.7.14//EN
METHOD:PUBLISH
CALSCALE:GREGORIAN
REFRESH-INTERVAL:PT15M
X-PUBLISHED-TTL:PT15M
X-WR-CALNAME:The Elder Scrolls Online
NAME:The Elder Scrolls Online
BEGIN:VTIMEZONE
TZID:Europe/London
TZURL:http://tzurl.org/zoneinfo/Europe/London
X-LIC-LOCATION:Europe/London
BEGIN:DAYLIGHT
TZOFFSETFROM:+0000
TZOFFSETTO:+0100
TZNAME:BST
DTSTART:20230326T020000Z
RRULE:FREQ=YEARLY;BYMONTH=3;BYDAY=-1SU
END:DAYLIGHT
BEGIN:STANDARD
TZOFFSETFROM:+0100
TZOFFSETTO:+0000
TZNAME:GMT
DTSTART:20231029T020000Z
RRULE:FREQ=YEARLY;BYMONTH=10;BYDAY=-1SU
END:STANDARD
END:VTIMEZONE
BEGIN:VEVENT
SUMMARY:[TESO] Нормальное испытание Солн
	ечный шпиль (nSS)
DTSTAMP:20230326T143007Z
SEQUENCE:0
UID:11165-1-afb15bc42254ad5fb0481ce5e9c8144d@forum.bandits-clan.ru
ORGANIZER;CN="Kubik":web@bandits-clan.ru
DESCRIPTION:\n	При сборе 
	приоритет у з
	аписавшихся. Ес
	ли вы записались
	\, но не пришли 
	до начала события\
	, ваше место может занять любо
	й желающий из чата. РЛ @Volibor1\n\n\n\n	Т
	ребования:\n\n\n\n	\n		160 Очков Героя\n	\n	\n	
		Discord\n	\n	\n		Табард гильдии\
	n	\n	\n		Игровое дополнение Эль
	свейр или подписка ESO+\n	\n\n\n\n	Состав:\n\n
	\n\n	\n		1 танк\n	\n	\n		2 лекаря\n	\n	\n		9 бойцо
	в\n	\n\n\n\n	Описание:\n\n\n\n\n	 \n\n
DTSTART:20230328T180000Z
DTEND:20230328T180500Z
ATTENDEE;CN="Dzhev";CUTYPE=INDIVIDUAL;PARTSTAT=ACCEPTED:web@
	bandits-clan.ru
ATTENDEE;CN="Volibor";CUTYPE=INDIVIDUAL;PARTSTAT=ACCEPTED:we
	b@bandits-clan.ru
ATTENDEE;CN="Azarak";CUTYPE=INDIVIDUAL;PARTSTAT=ACCEPTED:web
	@bandits-clan.ru
ATTENDEE;CN="Ruruc";CUTYPE=INDIVIDUAL;PARTSTAT=ACCEPTED:web@
	bandits-clan.ru
ATTENDEE;CN="DetFix";CUTYPE=INDIVIDUAL;PARTSTAT=ACCEPTED:web
	@bandits-clan.ru
ATTENDEE;CN="@Yoldar";CUTYPE=INDIVIDUAL;PARTSTAT=ACCEPTED:we
	b@bandits-clan.ru
ATTENDEE;CN="АндрейАгур";CUTYPE=INDIVIDUAL;PARTSTA
	T=ACCEPTED:web@bandits-clan.ru
END:VEVENT
END:VCALENDAR
