BEGIN:VCALENDAR
VERSION:2.0
PRODID:-//InvisionCommunity Events 4.7.14//EN
METHOD:PUBLISH
CALSCALE:GREGORIAN
REFRESH-INTERVAL:PT15M
X-PUBLISHED-TTL:PT15M
X-WR-CALNAME:The Elder Scrolls Online
NAME:The Elder Scrolls Online
BEGIN:VTIMEZONE
TZID:Europe/London
TZURL:http://tzurl.org/zoneinfo/Europe/London
X-LIC-LOCATION:Europe/London
BEGIN:DAYLIGHT
TZOFFSETFROM:+0000
TZOFFSETTO:+0100
TZNAME:BST
DTSTART:20230326T020000Z
RRULE:FREQ=YEARLY;BYMONTH=3;BYDAY=-1SU
END:DAYLIGHT
BEGIN:STANDARD
TZOFFSETFROM:+0100
TZOFFSETTO:+0000
TZNAME:GMT
DTSTART:20231029T020000Z
RRULE:FREQ=YEARLY;BYMONTH=10;BYDAY=-1SU
END:STANDARD
END:VTIMEZONE
BEGIN:VEVENT
SUMMARY:[TESO] Ветеранское испытание Кл
	аудрест +1 (vCR+1)
DTSTAMP:20230326T102318Z
SEQUENCE:0
UID:11148-1-afb15bc42254ad5fb0481ce5e9c8144d@forum.bandits-clan.ru
ORGANIZER;CN="elqwero":web@bandits-clan.ru
DESCRIPTION:\n	Пригл
	ашаю всех желающих
	 пройти Ветеранское ис
	пытание Клаудрест +1.\n\
	n\n\n	Сбор начинается
	 за 15 минут до нач
	ала. Если Вы пр
	ишли после врем
	ени начала рейда\, то
	 ваше место может 
	занят другой игро
	к.\n\n\n\n	Обязательн
	ые аддоны необход
	имо настроить до начала событи
	я.\n\n\n\n	Необходимый состав:\n\n\n\n	\n		3 
	Танка\n	\n	\n		2 Лекаря\n	\n	\n		7 Бойц
	ов\n	\n\n\n\n	Обязательные аддоны:\n\n\n\n	\n		RaidNot
	ifier (https://www.esoui.com/downloads/info1355-RaidNotifierUpdated.html)\
	n	\n	\n		OdySupportIcons (https://www.esoui.com/downloads/info2834-OdySupp
	ortIcons-GroupRoleIconsMore.html)\n	\n	\n		Hodor Reflexes (Не
	обходим для горна и колосса) (https://www.esoui.com
	/downloads/info2311-HodorReflexes-DPSUltimateShare.html)\n	\n	\n		Code's C
	ombat Alerts (https://www.esoui.com/downloads/info1855-CodesCombatAlerts.h
	tml)\n	\n	\n		HowToCloudrest (https://www.esoui.com/downloads/info3497-How
	ToCloudrest.html)\n	\n	\n		CrutchAlerts (https://www.esoui.com/downloads/i
	nfo3137-CrutchAlerts.html)\n	\n	\n		Improved Death Recap (https://www.esou
	i.com/downloads/info1319-ImprovedDeathRecap.html)(для танков)\n	
	\n\n\n\n	Рекомендуемые сборки:\n\n\n\n	\n		
	Для ДД:\n	\n\n\n\n	\n		Играть ук
	азанными ниже класс
	ами\n	\n	\n		Иметь 
	сборку с даль
	ними атаками и скилам
	и. Никаких двуручник
	ов\, кинжалов и прочег
	о\n	\n	\n		Для некромантов и
	меть сборку каталист\,
	 алкош/мартиал\n	\n	\n		Для 
	ДК иметь сборку алкош\, энкратис\, 
	дзен\n	\n\n\n\n	\n		Для хилов\n	\n\n
	\n\n	\n		Играть указанными ни
	же классами\n	\n	\n		Найт блей
	д - Мародер\, СПК и симфон
	ия\n	\n	\n		Варден - Йорвуль
	д\, авантюрист и наплечник разруше
	ния\n	\n\n\n\n	\n		Для танков\n	\n\n
	\n\n	\n		Играть указанными н
	иже классами\n	\n	\n		
	Мейн(некр) - Пр
	иливная верх\
	, ёлнакрин/саксхлил/
	алая клятва низ\, архид
	руид/сотрясатель\n	\n	\n
			Офф(дк) - Перламутр\, мощ
	ный натиск\, энкратис/сотр
	ясатель\n	\n\n\n\n	Требования для участи
	я:\n\n\n\n	\n		Звание Master Bandit/Мастер Банд
	ит\n	\n	\n		Discord и наличие микрофона\n	
	\n	\n		Табард гильдии Daggerfall Bandits / Bandits Clan / Ban
	dits Force\n	\n	\n		Приобретенное дополнение Sum
	merset или ESO Plus\n	\n	\n		Прочитать оп
	исание события\n	\
	n\n\n\n	Для подтвержд
	ения участия необход
	имо отметиться в календаре:\
	n\n\n\n	\n		Нажать кнопку Пойду
	\n	\n	\n		Указать свою роль и ID
	 в комментариях\n	\n	\
	n		Если по каки
	м-то причинам 
	не получится п
	рийти\, отписаться в комментариях\,
	 изменив свое сообщение\n	\n\n
DTSTART:20230329T130000Z
DTEND:20230329T130500Z
ATTENDEE;CN="elqwero";CUTYPE=INDIVIDUAL;PARTSTAT=ACCEPTED:we
	b@bandits-clan.ru
ATTENDEE;CN="cotikred";CUTYPE=INDIVIDUAL;PARTSTAT=ACCEPTED:w
	eb@bandits-clan.ru
ATTENDEE;CN="Fillith1556";CUTYPE=INDIVIDUAL;PARTSTAT=ACCEPTE
	D:web@bandits-clan.ru
ATTENDEE;CN="HolYBaaL";CUTYPE=INDIVIDUAL;PARTSTAT=ACCEPTED:w
	eb@bandits-clan.ru
ATTENDEE;CN="Yurikon";CUTYPE=INDIVIDUAL;PARTSTAT=ACCEPTED:we
	b@bandits-clan.ru
ATTENDEE;CN="АндрейАгур";CUTYPE=INDIVIDUAL;PARTSTA
	T=ACCEPTED:web@bandits-clan.ru
END:VEVENT
END:VCALENDAR
