BEGIN:VCALENDAR
VERSION:2.0
PRODID:-//InvisionCommunity Events 4.7.14//EN
METHOD:PUBLISH
CALSCALE:GREGORIAN
REFRESH-INTERVAL:PT15M
X-PUBLISHED-TTL:PT15M
X-WR-CALNAME:The Elder Scrolls Online
NAME:The Elder Scrolls Online
BEGIN:VTIMEZONE
TZID:Europe/London
TZURL:http://tzurl.org/zoneinfo/Europe/London
X-LIC-LOCATION:Europe/London
BEGIN:DAYLIGHT
TZOFFSETFROM:+0000
TZOFFSETTO:+0100
TZNAME:BST
DTSTART:20230326T020000Z
RRULE:FREQ=YEARLY;BYMONTH=3;BYDAY=-1SU
END:DAYLIGHT
BEGIN:STANDARD
TZOFFSETFROM:+0100
TZOFFSETTO:+0000
TZNAME:GMT
DTSTART:20231029T020000Z
RRULE:FREQ=YEARLY;BYMONTH=10;BYDAY=-1SU
END:STANDARD
END:VTIMEZONE
BEGIN:VEVENT
SUMMARY:[TESO] Ветеранское испытание Эгида
	 Кин (vKA)
DTSTAMP:20230320T121152Z
SEQUENCE:0
UID:11140-1-afb15bc42254ad5fb0481ce5e9c8144d@forum.bandits-clan.ru
ORGANIZER;CN="Kubik":web@bandits-clan.ru
DESCRIPTION:\n	Пригла
	шаю всех желающих пройт
	и Ветеранское испытание Эгида
	 Кин. РЛ - @ollanvol\n\n\n\n	Сбор н
	ачинается за 15
	 минут до начала
	. Если Вы пришли
	 после времени нача
	ла рейда\, то ваше ме
	сто может занят д
	ругой игрок.\n\n\
	n\n	Обязательные адд
	оны необходимо настр
	оить до начала события.\n\n\n\n	Н
	еобходимый состав:\n\n\n\n	\n		2 Танка\n	
	\n	\n		2 Лекаря\n	\n	\n		8 Бойцов\n	\n\n\n\n
		Обязательные аддоны:\n\n\n\n	\n		RaidNotifier (https://
	www.esoui.com/downloads/info1355-RaidNotifierUpdated.html)\n	\n	\n		OdySup
	portIcons (https://www.esoui.com/downloads/info2834-OdySupportIcons-GroupR
	oleIconsMore.html). Или анал
	огичные ад
	доны (доба
	вляющие ик
	онки ролей 
	над головой персонаж
	ей и увеличенную иконку короны(рей
	д-лидера))\n	\n	\n		Hodor Reflexes (Необхо
	дим для горна и колосса) (https://www.esoui.com/downloa
	ds/info2311-HodorReflexes-DPSUltimateShare.html)\n	\n	\n		Code's Combat Al
	erts (https://www.esoui.com/downloads/info1855-CodesCombatAlerts.html)\n	\
	n	\n		BSCs-HowToKynesAegis (https://www.esoui.com/downloads/info3442-BSCs-
	HowToKynesAegis.html)\n	\n\n\n\n	Требования для у
	частия:\n\n\n\n	\n		Звание Veteran Bandit/Ветеран
	 Бандит\n	\n	\n		Discord и наличие мик
	рофона\n	\n	\n		Табард гильдии Daggerfall Bandits / Ban
	dits Clan / Bandits Force\n	\n	\n		Приобретенно
	е дополнение Greymoor или ESO Plus
	\n	\n\n\n\n	Для подтв
	ерждения участия нео
	бходимо отметиться в календа
	ре:\n\n\n\n	\n		Нажать кнопку Пой
	ду\n	\n	\n		Указать свою роль и
	 ID в комментариях\n	\n
		\n		Если по каки
	м-то причинам 
	не получится п
	рийти\, отписаться в комментариях\,
	 изменив свое сообщение\n	\n\n
DTSTART:20230322T110000Z
DTEND:20230322T110500Z
ATTENDEE;CN="ВячеславК";CUTYPE=INDIVIDUAL;PARTSTAT=
	ACCEPTED:web@bandits-clan.ru
ATTENDEE;CN="shaverma";CUTYPE=INDIVIDUAL;PARTSTAT=ACCEPTED:w
	eb@bandits-clan.ru
ATTENDEE;CN="cotikred";CUTYPE=INDIVIDUAL;PARTSTAT=ACCEPTED:w
	eb@bandits-clan.ru
ATTENDEE;CN="Treiden";CUTYPE=INDIVIDUAL;PARTSTAT=ACCEPTED:we
	b@bandits-clan.ru
ATTENDEE;CN="BaraBascha";CUTYPE=INDIVIDUAL;PARTSTAT=ACCEPTED
	:web@bandits-clan.ru
ATTENDEE;CN="c@6aka";CUTYPE=INDIVIDUAL;PARTSTAT=ACCEPTED:web
	@bandits-clan.ru
ATTENDEE;CN="WooDooDoll";CUTYPE=INDIVIDUAL;PARTSTAT=ACCEPTED
	:web@bandits-clan.ru
ATTENDEE;CN="Shepsteijens";CUTYPE=INDIVIDUAL;PARTSTAT=ACCEPT
	ED:web@bandits-clan.ru
ATTENDEE;CN="elqwero";CUTYPE=INDIVIDUAL;PARTSTAT=ACCEPTED:we
	b@bandits-clan.ru
END:VEVENT
END:VCALENDAR
