BEGIN:VCALENDAR
VERSION:2.0
PRODID:-//InvisionCommunity Events 4.7.14//EN
METHOD:PUBLISH
CALSCALE:GREGORIAN
REFRESH-INTERVAL:PT15M
X-PUBLISHED-TTL:PT15M
X-WR-CALNAME:The Elder Scrolls Online
NAME:The Elder Scrolls Online
BEGIN:VTIMEZONE
TZID:Europe/London
TZURL:http://tzurl.org/zoneinfo/Europe/London
X-LIC-LOCATION:Europe/London
BEGIN:DAYLIGHT
TZOFFSETFROM:+0000
TZOFFSETTO:+0100
TZNAME:BST
DTSTART:20230326T020000Z
RRULE:FREQ=YEARLY;BYMONTH=3;BYDAY=-1SU
END:DAYLIGHT
BEGIN:STANDARD
TZOFFSETFROM:+0100
TZOFFSETTO:+0000
TZNAME:GMT
DTSTART:20231029T020000Z
RRULE:FREQ=YEARLY;BYMONTH=10;BYDAY=-1SU
END:STANDARD
END:VTIMEZONE
BEGIN:VEVENT
SUMMARY:[TESO] усложнен
	ный режим Ветеранского испытания Эгид
	а Кин (vKA Hm)
DTSTAMP:20230316T161659Z
SEQUENCE:0
UID:11123-1-afb15bc42254ad5fb0481ce5e9c8144d@forum.bandits-clan.ru
ORGANIZER;CN="elqwero":web@bandits-clan.ru
DESCRIPTION:\n	Приг
	лашаю 
	обучаться п
	рохождению усл
	ожненного Ветеранс
	кого испытания Эгида 
	Кин.\n\n\n\n	Сбор начина
	ется за 15 минут д
	о начала. Если В
	ы пришли после
	 времени начала рейда\
	, то ваше место може
	т занят другой игр
	ок.\n\n\n\n	Обяза
	тельные ад
	доны необход
	имо настроить до нач
	ала события. Рейд бу
	дет длится до 3 часо
	в\n\n\n\n	В рейд по
	 записи бе
	рутся от
	 звания 
	супериор банд
	ит. Остальные ра
	ссматриваются в индиви
	дуальном порядке.\n\n\n\n	Необходимый
	 состав:\n\n\n\n	\n		2 Танка\n	\n	\n		2 Лекаря\n	\n
		\n		8 Бойцов\n	\n\n\n\n	Обязательные аддоны:\n\n\
	n\n	\n		RaidNotifier (https://www.esoui.com/downloads/info1355-RaidNotifie
	rUpdated.html)\n	\n	\n		OdySupportIcons (https://www.esoui.com/downloads/i
	nfo2834-OdySupportIcons-GroupRoleIconsMore.html). Или 
	аналогичны
	е аддоны (д
	обавляющи
	е иконки ро
	лей над головой п
	ерсонажей и увеличенную иконку 
	короны(рейд-лидера))\n	\n	\n		Hodo
	r Reflexes (Необходим для горна и колосса) (https
	://www.esoui.com/downloads/info2311-HodorReflexes-DPSUltimateShare.html)\n
		\n	\n		Code's Combat Alerts (https://www.esoui.com/downloads/info1855-Cod
	esCombatAlerts.html)\n	\n	\n		BSCs-HowToKynesAegis (https://www.esoui.com/
	downloads/info3442-BSCs-HowToKynesAegis.html)\n	\n\n\n\n	Р
	екомендуемые сборки:\n\n\n\n	\n		Для
	 ДД:\n	\n\n\n\n	\n		Иметь в наличии саппорт
	 сеты:\n		\n			\n				Алкош\n			\n			\n				З'ен\n			\n		
		\n				Мартиал\n			\n			\n				Каталист\n			\n		\n	\
	n\n\n\n	\n		Для хилов\n	\n\n\n\n	\n		И
	грать указанными ниже 
	классами\n	\n	\n		Найт бл
	ейд - Мародер\, СПК/мощ
	ный натиск и симфония\n
		\n	\n		Варден - Йорвул
	ьд/СПК\, авантюрист(через 2 
	посоха) и наплечник разрушения\n	\n\n
	\n\n	\n		Для танков\n	\n\n\n\n	\n		Иг
	рать указанными ниже к
	лассами\n	\n	\n		Мейн(
	некр) - Приливная
	 верх\, ёлнакрин/сак
	схлил/алая клятва\, низ
	\, архидруид/сотрясатель
	\n	\n	\n		Офф(дк) - Перла
	мутр\, мощный 
	натиск/алая кл
	ятва\, энкратис
	/сотрясатель. Имет
	ь скилл \"Защитник\" в мо
	рфе \"Мистический защитник\"\n	\
	n\n\n\n	Требования для участия:\n\n\n\n	\
	n		Звание Superior Bandit/Супериор Бандит
	\n	\n	\n		Discord и наличие микрофона\n	\n	\
	n		Табард гильдии Daggerfall Bandits / Bandits Clan / Bandits
	 Force\n	\n	\n		Приобретенное дополнение Greymo
	or или ESO Plus\n	\n\n\n\n	
	Для подтверждения уч
	астия необходимо отме
	титься в календаре:\n\n\n\n	\
	n		Нажать кнопку Пойду\n	\n
		\n		Указать свою роль и ID
	 в комментариях\n	\n	\
	n		Если по каки
	м-то причинам 
	не получится п
	рийти\, отписаться в комментариях\,
	 изменив свое сообщение\n	\n\n
DTSTART:20230322T170000Z
DTEND:20230322T170500Z
ATTENDEE;CN="elqwero";CUTYPE=INDIVIDUAL;PARTSTAT=ACCEPTED:we
	b@bandits-clan.ru
ATTENDEE;CN="Heymexa";CUTYPE=INDIVIDUAL;PARTSTAT=ACCEPTED:we
	b@bandits-clan.ru
ATTENDEE;CN="LawOfJulia";CUTYPE=INDIVIDUAL;PARTSTAT=ACCEPTED
	:web@bandits-clan.ru
ATTENDEE;CN="HolYBaaL";CUTYPE=INDIVIDUAL;PARTSTAT=ACCEPTED:w
	eb@bandits-clan.ru
ATTENDEE;CN="Fillith1556";CUTYPE=INDIVIDUAL;PARTSTAT=ACCEPTE
	D:web@bandits-clan.ru
ATTENDEE;CN="vegasmoon";CUTYPE=INDIVIDUAL;PARTSTAT=ACCEPTED:
	web@bandits-clan.ru
ATTENDEE;CN="Егор Юрьевич";CUTYPE=INDIVIDUAL;PART
	STAT=ACCEPTED:web@bandits-clan.ru
ATTENDEE;CN="c@6aka";CUTYPE=INDIVIDUAL;PARTSTAT=ACCEPTED:web
	@bandits-clan.ru
ATTENDEE;CN="Iglair";CUTYPE=INDIVIDUAL;PARTSTAT=ACCEPTED:web
	@bandits-clan.ru
ATTENDEE;CN="DanyTwyt";CUTYPE=INDIVIDUAL;PARTSTAT=ACCEPTED:w
	eb@bandits-clan.ru
ATTENDEE;CN="Shtille";CUTYPE=INDIVIDUAL;PARTSTAT=ACCEPTED:we
	b@bandits-clan.ru
ATTENDEE;CN="Simvol";CUTYPE=INDIVIDUAL;PARTSTAT=ACCEPTED:web
	@bandits-clan.ru
ATTENDEE;CN="АндрейАгур";CUTYPE=INDIVIDUAL;PARTSTA
	T=ACCEPTED:web@bandits-clan.ru
ATTENDEE;CN="iRaa58";CUTYPE=INDIVIDUAL;PARTSTAT=ACCEPTED:web
	@bandits-clan.ru
END:VEVENT
END:VCALENDAR
