BEGIN:VCALENDAR
VERSION:2.0
PRODID:-//InvisionCommunity Events 4.7.14//EN
METHOD:PUBLISH
CALSCALE:GREGORIAN
REFRESH-INTERVAL:PT15M
X-PUBLISHED-TTL:PT15M
X-WR-CALNAME:The Elder Scrolls Online
NAME:The Elder Scrolls Online
BEGIN:VTIMEZONE
TZID:Europe/London
TZURL:http://tzurl.org/zoneinfo/Europe/London
X-LIC-LOCATION:Europe/London
BEGIN:DAYLIGHT
TZOFFSETFROM:+0000
TZOFFSETTO:+0100
TZNAME:BST
DTSTART:20230326T020000Z
RRULE:FREQ=YEARLY;BYMONTH=3;BYDAY=-1SU
END:DAYLIGHT
BEGIN:STANDARD
TZOFFSETFROM:+0100
TZOFFSETTO:+0000
TZNAME:GMT
DTSTART:20231029T020000Z
RRULE:FREQ=YEARLY;BYMONTH=10;BYDAY=-1SU
END:STANDARD
END:VTIMEZONE
BEGIN:VEVENT
SUMMARY:[TESO] Обучающее Ветера
	нское испытание Клаудрест +2 (vCR+2)
DTSTAMP:20230312T152045Z
SEQUENCE:0
UID:11105-1-afb15bc42254ad5fb0481ce5e9c8144d@forum.bandits-clan.ru
ORGANIZER;CN="elqwero":web@bandits-clan.ru
DESCRIPTION:\n	Приг
	лаша
	ю всех ж
	елающих обучат
	ься прохождению
	 Ветеранского испыта
	ния Клаудрест +2.\n\n\n\n
		Сбор начинается
	 за 15 минут до нач
	ала. Если Вы пр
	ишли после врем
	ени начала рейда\, то
	 ваше место может 
	занят другой игро
	к.\n\n\n\n	Обязате
	льные аддон
	ы необходимо нас
	троить до начала событ
	ия. Рейд будет длится 
	до 3 часов\n\n\n\n	В 
	рейд по зап
	иси берутс
	я от звани
	я мастер бандит
	. Остальные рассм
	атриваются в индивидуальн
	ом порядке.\n\n\n\n	Необходимый состав:\
	n\n\n\n	\n		3 Танка\n	\n	\n		2 Лекаря\n	\n	\n		7 Б
	ойцов\n	\n\n\n\n	Обязательные аддоны:\n\n\n\n	\n		R
	aidNotifier (https://www.esoui.com/downloads/info1355-RaidNotifierUpdated.
	html)\n	\n	\n		OdySupportIcons (https://www.esoui.com/downloads/info2834-O
	dySupportIcons-GroupRoleIconsMore.html)\n	\n	\n		Hodor Reflexes (
	Необходим для горна и колосса) (https://www.esoui
	.com/downloads/info2311-HodorReflexes-DPSUltimateShare.html)\n	\n	\n		Code
	's Combat Alerts (https://www.esoui.com/downloads/info1855-CodesCombatAler
	ts.html)\n	\n	\n		HowToCloudrest (https://www.esoui.com/downloads/info3497
	-HowToCloudrest.html)\n	\n	\n		CrutchAlerts (https://www.esoui.com/downloa
	ds/info3137-CrutchAlerts.html)\n	\n	\n		Improved Death Recap (https://www.
	esoui.com/downloads/info1319-ImprovedDeathRecap.html)(для танков)
	\n	\n\n\n\n	Рекомендуемые сборки:\n\n\n\n	\n	
		Для ДД:\n	\n\n\n\n	\n		Име
	ть сборку с да
	льними атаками и ск
	илами. Никаких двуруч
	ников\, кинжалов и прочего\n	
	\n	\n		Иметь в наличии саппорт сеты:\n		\n		
		\n				Алкош\n			\n			\n				З'ен\n			\n			\n				Мартиал\
	n			\n			\n				Каталист\n			\n		\n	\n\n\n\n	\n		Для хилов
	\n	\n\n\n\n	\n		Играть указанными
	 ниже классами\n	\n	\n
			Найт блейд - Мародер\, 
	СПК/мощный натиск и с
	имфония\n	\n	\n		Варден 
	- Йорвульд/СПК\, авант
	юрист(через 2 посоха) и напле
	чник разрушения\n	\n\n\n\n	\n		Для 
	танков\n	\n\n\n\n	\n		Играть ука
	занными ниже классами\
	n	\n	\n		Мейн(некр) - П
	риливная верх
	\, ёлнакрин/саксхлил/а
	лая клятва\, низ\, архидр
	уид/сотрясатель\n	\n	\n	
		Офф(дк) - Перламут
	р\, мощный натиск/алая
	 клятва\, энкратис/сотрясател
	ь\n	\n\n\n\n	Требования для участия:\n\n\n
	\n	\n		Звание Master Bandit/Мастер Бандит
	\n	\n	\n		Discord и наличие микрофона\n	\n	\
	n		Табард гильдии Daggerfall Bandits / Bandits Clan / Bandits
	 Force\n	\n	\n		Приобретенное дополнение Summer
	set или ESO Plus\n	\n	\n		Прочитать оп
	исание события\n	\
	n\n\n\n	Для подтвержд
	ения участия необход
	имо отметиться в календаре:\
	n\n\n\n	\n		Нажать кнопку Пойду
	\n	\n	\n		Указать свою роль и ID
	 в комментариях\n	\n	\n		Осозна
	ть\, что рейд длится 3 ч
	аса\n	\n	\n		Если по к
	аким-то причи
	нам не получи
	тся прийти\, отписаться в 
	комментариях\, изменив свое сообщение\n	\n
	\n
DTSTART:20230319T110000Z
DTEND:20230319T110500Z
ATTENDEE;CN="elqwero";CUTYPE=INDIVIDUAL;PARTSTAT=ACCEPTED:we
	b@bandits-clan.ru
ATTENDEE;CN="moonston";CUTYPE=INDIVIDUAL;PARTSTAT=ACCEPTED:w
	eb@bandits-clan.ru
ATTENDEE;CN="StarayaDushnila";CUTYPE=INDIVIDUAL;PARTSTAT=ACC
	EPTED:web@bandits-clan.ru
ATTENDEE;CN="LawOfJulia";CUTYPE=INDIVIDUAL;PARTSTAT=ACCEPTED
	:web@bandits-clan.ru
ATTENDEE;CN="Heymexa";CUTYPE=INDIVIDUAL;PARTSTAT=ACCEPTED:we
	b@bandits-clan.ru
ATTENDEE;CN="Fillith1556";CUTYPE=INDIVIDUAL;PARTSTAT=ACCEPTE
	D:web@bandits-clan.ru
ATTENDEE;CN="vegasmoon";CUTYPE=INDIVIDUAL;PARTSTAT=ACCEPTED:
	web@bandits-clan.ru
ATTENDEE;CN="HolYBaaL";CUTYPE=INDIVIDUAL;PARTSTAT=ACCEPTED:w
	eb@bandits-clan.ru
ATTENDEE;CN="c@6aka";CUTYPE=INDIVIDUAL;PARTSTAT=ACCEPTED:web
	@bandits-clan.ru
ATTENDEE;CN="Iglair";CUTYPE=INDIVIDUAL;PARTSTAT=ACCEPTED:web
	@bandits-clan.ru
ATTENDEE;CN="Shtille";CUTYPE=INDIVIDUAL;PARTSTAT=ACCEPTED:we
	b@bandits-clan.ru
ATTENDEE;CN="Егор Юрьевич";CUTYPE=INDIVIDUAL;PART
	STAT=ACCEPTED:web@bandits-clan.ru
ATTENDEE;CN="Cuarsith";CUTYPE=INDIVIDUAL;PARTSTAT=ACCEPTED:w
	eb@bandits-clan.ru
ATTENDEE;CN="Yurikon";CUTYPE=INDIVIDUAL;PARTSTAT=ACCEPTED:we
	b@bandits-clan.ru
ATTENDEE;CN="Денмарк";CUTYPE=INDIVIDUAL;PARTSTAT=ACCE
	PTED:web@bandits-clan.ru
END:VEVENT
END:VCALENDAR
