BEGIN:VCALENDAR
VERSION:2.0
PRODID:-//InvisionCommunity Events 4.7.14//EN
METHOD:PUBLISH
CALSCALE:GREGORIAN
REFRESH-INTERVAL:PT15M
X-PUBLISHED-TTL:PT15M
X-WR-CALNAME:The Elder Scrolls Online
NAME:The Elder Scrolls Online
BEGIN:VTIMEZONE
TZID:Europe/London
TZURL:http://tzurl.org/zoneinfo/Europe/London
X-LIC-LOCATION:Europe/London
BEGIN:DAYLIGHT
TZOFFSETFROM:+0000
TZOFFSETTO:+0100
TZNAME:BST
DTSTART:20230326T020000Z
RRULE:FREQ=YEARLY;BYMONTH=3;BYDAY=-1SU
END:DAYLIGHT
BEGIN:STANDARD
TZOFFSETFROM:+0100
TZOFFSETTO:+0000
TZNAME:GMT
DTSTART:20231029T020000Z
RRULE:FREQ=YEARLY;BYMONTH=10;BYDAY=-1SU
END:STANDARD
END:VTIMEZONE
BEGIN:VEVENT
SUMMARY:[TESO] Обучающий ветеранск
	ий Риф Зловещих Парусов (vDSR)
DTSTAMP:20230305T134725Z
SEQUENCE:0
UID:11092-1-afb15bc42254ad5fb0481ce5e9c8144d@forum.bandits-clan.ru
ORGANIZER;CN="c@6aka":web@bandits-clan.ru
DESCRIPTION:\n	Пригла
	шаю всех 
	желающих прой
	ти обучающее Вет
	еранское испытан
	ие Риф Зловещих П
	арусов.\n\n\n\n	
	Обязательные аддоны 
	необходимо настроить до нача
	ла события.\n\n\n\n	РТ 2-3 часа\n\n\n\n	Не
	обходимый состав:\n\n\n\n	\n		2 Танка\n	\n
		\n		2 Лекаря\n	\n	\n		8 Бойцов\n	\n\n\n\n	О
	бязательные аддоны:\n\n\n\n	\n		RaidNotifier (https://www
	.esoui.com/downloads/info1355-RaidNotifierUpdated.html)\n	\n	\n		OdySuppor
	tIcons (https://www.esoui.com/downloads/info2834-OdySupportIcons-GroupRole
	IconsMore.html). Или анал
	огичные ад
	доны (доба
	вляющие ик
	онки ролей 
	над головой персонаж
	ей и увеличенную иконку короны(рей
	д-лидера))\n	\n	\n		Hodor Reflexes (Необхо
	дим для горна и колосса) (https://www.esoui.com/downloa
	ds/info2311-HodorReflexes-DPSUltimateShare.html)\n	\n	\n		Code's Combat Al
	erts (https://www.esoui.com/downloads/info1855-CodesCombatAlerts.html)\n	\
	n	\n		Qcells Dreadssail Reef Helper (https://www.esoui.com/downloads/info3
	354-QcellsDreadsailReefHelper.html)\n	\n	\n		Improved Death Recap (https:/
	/www.esoui.com/downloads/info1319-ImprovedDeathRecap.html)\n	\n\n\n\n	
	Требования для участия:\n\n\n\n	\n
			Звание Veteran Bandit/Ветеран Бандит и в
	ыше.\n	\n	\n		Discord и наличие ми
	крофона\n	\n	\n		Табард одной и
	з гильдий Bandits \n	\n	\n		Приобретен
	ное дополнение или ESO Plus\n	\n\n\
	n\n	Необходимые сеты\n\n\n\n	Для 
	хилов\n\n\n\n	\n		Мародер\, СПК 
	и симфония\n	\n	\n		Йорвуль
	д\, авантюрист и наплечник разру
	шения\n	\n\n\n\n	Для танков\n\n\n
	\n	\n		Мейн - Приливн
	ая волна верх\, коготь 
	йолнакрина низ\, сотря
	сатель\n	\n	\n		Офф - П
	ерламутровый обере
	г верх\, мощный натиск 
	низ\, энкратис/сотр
	ясатель\n	\n\n\n\n
		Для подтверждения уч
	астия необходимо отме
	титься в календаре:\n\n\n\n	\
	n		Нажать кнопку Пойду\n	\n
		\n		Указать свою роль и ID
	 в комментариях\n	\n	\
	n		Если по каки
	м-то причинам 
	не получится п
	рийти\, отписаться в комментариях\,
	 изменив свое сообщение\n	\n\n
DTSTART:20230310T173000Z
ATTENDEE;CN="c@6aka";CUTYPE=INDIVIDUAL;PARTSTAT=ACCEPTED:web
	@bandits-clan.ru
ATTENDEE;CN="vegasmoon";CUTYPE=INDIVIDUAL;PARTSTAT=ACCEPTED:
	web@bandits-clan.ru
ATTENDEE;CN="iRaa58";CUTYPE=INDIVIDUAL;PARTSTAT=ACCEPTED:web
	@bandits-clan.ru
ATTENDEE;CN="Iglair";CUTYPE=INDIVIDUAL;PARTSTAT=ACCEPTED:web
	@bandits-clan.ru
ATTENDEE;CN="dolores";CUTYPE=INDIVIDUAL;PARTSTAT=ACCEPTED:we
	b@bandits-clan.ru
ATTENDEE;CN="LawOfJulia";CUTYPE=INDIVIDUAL;PARTSTAT=ACCEPTED
	:web@bandits-clan.ru
ATTENDEE;CN="HolYBaaL";CUTYPE=INDIVIDUAL;PARTSTAT=ACCEPTED:w
	eb@bandits-clan.ru
ATTENDEE;CN="Heymexa";CUTYPE=INDIVIDUAL;PARTSTAT=ACCEPTED:we
	b@bandits-clan.ru
ATTENDEE;CN="Ektalion";CUTYPE=INDIVIDUAL;PARTSTAT=ACCEPTED:w
	eb@bandits-clan.ru
ATTENDEE;CN="YuraDeathEater";CUTYPE=INDIVIDUAL;PARTSTAT=ACCE
	PTED:web@bandits-clan.ru
ATTENDEE;CN="Ulfhedhnar";CUTYPE=INDIVIDUAL;PARTSTAT=ACCEPTED
	:web@bandits-clan.ru
ATTENDEE;CN="Shepsteijens";CUTYPE=INDIVIDUAL;PARTSTAT=ACCEPT
	ED:web@bandits-clan.ru
END:VEVENT
END:VCALENDAR
