BEGIN:VCALENDAR
VERSION:2.0
PRODID:-//InvisionCommunity Events 4.7.14//EN
METHOD:PUBLISH
CALSCALE:GREGORIAN
REFRESH-INTERVAL:PT15M
X-PUBLISHED-TTL:PT15M
X-WR-CALNAME:The Elder Scrolls Online
NAME:The Elder Scrolls Online
BEGIN:VTIMEZONE
TZID:Europe/London
TZURL:http://tzurl.org/zoneinfo/Europe/London
X-LIC-LOCATION:Europe/London
BEGIN:DAYLIGHT
TZOFFSETFROM:+0000
TZOFFSETTO:+0100
TZNAME:BST
DTSTART:20230326T020000Z
RRULE:FREQ=YEARLY;BYMONTH=3;BYDAY=-1SU
END:DAYLIGHT
BEGIN:STANDARD
TZOFFSETFROM:+0100
TZOFFSETTO:+0000
TZNAME:GMT
DTSTART:20231029T020000Z
RRULE:FREQ=YEARLY;BYMONTH=10;BYDAY=-1SU
END:STANDARD
END:VTIMEZONE
BEGIN:VEVENT
SUMMARY:[TESO] Ветеранское испытание К
	аменная Роща (vRG)
DTSTAMP:20230227T060534Z
SEQUENCE:0
UID:11068-1-afb15bc42254ad5fb0481ce5e9c8144d@forum.bandits-clan.ru
ORGANIZER;CN="Detactor":web@bandits-clan.ru
DESCRIPTION:\n	\n		\n			 \n		\n	\n\n	\n		\n			\n				\n					\n					
		Приглашаю всех желающи
	х пройти испытание Каменная роща вет
	. (vRG)\n					\n\n					\n						Необходимый состав:\n					
	\n\n					\n						\n							2 Танка\n						\n						\n							2 Лек
	аря\n						\n						\n							8 Бойцов\n						\n					\n\n				
		\n						Обязательные аддоны:\n					\n\n					\n						\n	
							Bandits User Interface\n						\n					\n\n					\n						Т
	ребования для участия:\n					\n\n					\n				
			\n							Звание Bandit/Бандит\n						\n						\n					
			Discord и наличие микрофона\n						\n					
		\n							Табард гильдии Daggerfall Bandits / Bandits Clan\n	
						\n					\n\n					\n						аддоны:\n					\n\n					\n						\n						
		RaidNotifier (https://www.esoui.com/downloads/info1355-RaidNotifierUpdate
	d.html)\n						\n						\n							OdySupportIcons (https://www.esoui.com/dow
	nloads/info2834-OdySupportIcons-GroupRoleIconsMore.html). Ил
	и аналогичн
	ые аддоны (
	добавляющ
	ие иконки р
	олей над головой
	 персонажей и увеличенную икон
	ку короны(рейд-лидера))\n						\n						\n						
		Hodor Reflexes (Необходим для горна и колосса) (
	https://www.esoui.com/downloads/info2311-HodorReflexes-DPSUltimateShare.ht
	ml)\n						\n						\n							Code's Combat Alerts (https://www.esoui.com/do
	wnloads/info1855-CodesCombatAlerts.html)\n						\n					\n\n					\n						
	Для подтверждения уча
	стия необходимо отметиться в календаре
	:\n					\n\n					\n						\n							Нажать кнопку Пойду\n	
						\n						\n							Указать свою роль и ID 
	в комментариях\n						\n						\n
								Если по каки
	м-то причинам 
	не получится п
	рийти\, отписаться в комме
	нтариях\, изменив свое сообщение\n						\n					
	\n				\n			\n		\n	\n\n
DTSTART:20230228T110000Z
DTEND:20230228T110500Z
ATTENDEE;CN="foxsicar";CUTYPE=INDIVIDUAL;PARTSTAT=ACCEPTED:w
	eb@bandits-clan.ru
ATTENDEE;CN="Azunamadd";CUTYPE=INDIVIDUAL;PARTSTAT=ACCEPTED:
	web@bandits-clan.ru
ATTENDEE;CN="Fillith1556";CUTYPE=INDIVIDUAL;PARTSTAT=ACCEPTE
	D:web@bandits-clan.ru
ATTENDEE;CN="Detactor";CUTYPE=INDIVIDUAL;PARTSTAT=ACCEPTED:w
	eb@bandits-clan.ru
ATTENDEE;CN="YuraDeathEater";CUTYPE=INDIVIDUAL;PARTSTAT=ACCE
	PTED:web@bandits-clan.ru
ATTENDEE;CN="DanyTwyt";CUTYPE=INDIVIDUAL;PARTSTAT=ACCEPTED:w
	eb@bandits-clan.ru
ATTENDEE;CN="Кошара";CUTYPE=INDIVIDUAL;PARTSTAT=ACCEPT
	ED:web@bandits-clan.ru
ATTENDEE;CN="cotikred";CUTYPE=INDIVIDUAL;PARTSTAT=ACCEPTED:w
	eb@bandits-clan.ru
ATTENDEE;CN="vadimborovec1980";CUTYPE=INDIVIDUAL;PARTSTAT=AC
	CEPTED:web@bandits-clan.ru
END:VEVENT
END:VCALENDAR
