BEGIN:VCALENDAR
VERSION:2.0
PRODID:-//InvisionCommunity Events 4.7.14//EN
METHOD:PUBLISH
CALSCALE:GREGORIAN
REFRESH-INTERVAL:PT15M
X-PUBLISHED-TTL:PT15M
X-WR-CALNAME:The Elder Scrolls Online
NAME:The Elder Scrolls Online
BEGIN:VTIMEZONE
TZID:Europe/London
TZURL:http://tzurl.org/zoneinfo/Europe/London
X-LIC-LOCATION:Europe/London
BEGIN:DAYLIGHT
TZOFFSETFROM:+0000
TZOFFSETTO:+0100
TZNAME:BST
DTSTART:20230326T020000Z
RRULE:FREQ=YEARLY;BYMONTH=3;BYDAY=-1SU
END:DAYLIGHT
BEGIN:STANDARD
TZOFFSETFROM:+0100
TZOFFSETTO:+0000
TZNAME:GMT
DTSTART:20231029T020000Z
RRULE:FREQ=YEARLY;BYMONTH=10;BYDAY=-1SU
END:STANDARD
END:VTIMEZONE
BEGIN:VEVENT
SUMMARY:[TESO] Нормальное испытание К
	аменная Роща (nRG)
DTSTAMP:20230227T060259Z
SEQUENCE:0
UID:11067-1-afb15bc42254ad5fb0481ce5e9c8144d@forum.bandits-clan.ru
ORGANIZER;CN="Detactor":web@bandits-clan.ru
DESCRIPTION:\n	\n		\n			 \n		\n	\n\n	\n		\n			\n				\n					\n						
	При сборе прио
	ритет у записа
	вшихся. Если вы 
	записались\, но 
	не пришли до н
	ачала события\, то ва
	ше место может занять любой жела
	ющий из чата.\n					\n\n					\n						Требования:\n				
		\n\n					\n						\n							160 Очков Героя\n						\n						\n				
				Discord\n						\n						\n							Табард гильдии\n						\n		
					\n							Глава Черный Лес\n						\n					\n\n					\
	n						Состав:\n					\n\n					\n						\n							1 танк\n						\n	
						\n							2 лекаря\n						\n						\n							9 бойцов\n					
		\n					\n				\n			\n		\n	\n\n
DTSTART:20230227T110000Z
DTEND:20230227T110500Z
ATTENDEE;CN="SchweineKotelett";CUTYPE=INDIVIDUAL;PARTSTAT=AC
	CEPTED:web@bandits-clan.ru
ATTENDEE;CN="Урс";CUTYPE=INDIVIDUAL;PARTSTAT=ACCEPTED:web
	@bandits-clan.ru
END:VEVENT
END:VCALENDAR
