BEGIN:VCALENDAR
VERSION:2.0
PRODID:-//InvisionCommunity Events 4.7.14//EN
METHOD:PUBLISH
CALSCALE:GREGORIAN
REFRESH-INTERVAL:PT15M
X-PUBLISHED-TTL:PT15M
X-WR-CALNAME:The Elder Scrolls Online
NAME:The Elder Scrolls Online
BEGIN:VTIMEZONE
TZID:Europe/London
TZURL:http://tzurl.org/zoneinfo/Europe/London
X-LIC-LOCATION:Europe/London
BEGIN:DAYLIGHT
TZOFFSETFROM:+0000
TZOFFSETTO:+0100
TZNAME:BST
DTSTART:20230326T020000Z
RRULE:FREQ=YEARLY;BYMONTH=3;BYDAY=-1SU
END:DAYLIGHT
BEGIN:STANDARD
TZOFFSETFROM:+0100
TZOFFSETTO:+0000
TZNAME:GMT
DTSTART:20231029T020000Z
RRULE:FREQ=YEARLY;BYMONTH=10;BYDAY=-1SU
END:STANDARD
END:VTIMEZONE
BEGIN:VEVENT
SUMMARY:[TESO] Нормальное испытание Солн
	ечный шпиль (nSS)
DTSTAMP:20230226T122931Z
SEQUENCE:0
UID:11058-1-afb15bc42254ad5fb0481ce5e9c8144d@forum.bandits-clan.ru
ORGANIZER;CN="Rusovek":web@bandits-clan.ru
DESCRIPTION:\n	\n		\n			\n				При сб
	оре приоритет 
	у записавшихся.
	 Если вы записал
	ись\, но не приш
	ли до начала событ
	ия\, ваше место может занять любо
	й желающий из чата.\n			\n		\n	\n\n\n\n	\n		\n			
	Требования:\n		\n\n		\n			\n				160 Очков Героя\n			\n
				\n				Discord\n			\n			\n				Гильдейская накидка Dag
	gerfall Bandits / Bandits Clan / Bandits Force\n			\n			\n				
	Приобретенное дополнение Elsweyr или ESO 
	Plus\n			\n		\n\n		\n			Состав:\n		\n\n		\n			\n				1 танк\n			\
	n			\n				2 лекаря\n			\n			\n				9 бойцов\n			\n		\n\
	n		\n			Описание:\n		\n		\n\n		\n			 \n		\n	\n\n
DTSTART:20230304T120000Z
DTEND:20230304T120500Z
ATTENDEE;CN="Rusovek";CUTYPE=INDIVIDUAL;PARTSTAT=ACCEPTED:we
	b@bandits-clan.ru
ATTENDEE;CN="sda1964";CUTYPE=INDIVIDUAL;PARTSTAT=ACCEPTED:we
	b@bandits-clan.ru
ATTENDEE;CN="Azunamadd";CUTYPE=INDIVIDUAL;PARTSTAT=ACCEPTED:
	web@bandits-clan.ru
ATTENDEE;CN="Hronos";CUTYPE=INDIVIDUAL;PARTSTAT=ACCEPTED:web
	@bandits-clan.ru
ATTENDEE;CN="vitarsky";CUTYPE=INDIVIDUAL;PARTSTAT=ACCEPTED:w
	eb@bandits-clan.ru
ATTENDEE;CN="Psycho925";CUTYPE=INDIVIDUAL;PARTSTAT=ACCEPTED:
	web@bandits-clan.ru
ATTENDEE;CN="Volibor";CUTYPE=INDIVIDUAL;PARTSTAT=ACCEPTED:we
	b@bandits-clan.ru
END:VEVENT
END:VCALENDAR
