BEGIN:VCALENDAR
VERSION:2.0
PRODID:-//InvisionCommunity Events 4.7.14//EN
METHOD:PUBLISH
CALSCALE:GREGORIAN
REFRESH-INTERVAL:PT15M
X-PUBLISHED-TTL:PT15M
X-WR-CALNAME:The Elder Scrolls Online
NAME:The Elder Scrolls Online
BEGIN:VTIMEZONE
TZID:Europe/London
TZURL:http://tzurl.org/zoneinfo/Europe/London
X-LIC-LOCATION:Europe/London
BEGIN:DAYLIGHT
TZOFFSETFROM:+0000
TZOFFSETTO:+0100
TZNAME:BST
DTSTART:20230326T020000Z
RRULE:FREQ=YEARLY;BYMONTH=3;BYDAY=-1SU
END:DAYLIGHT
BEGIN:STANDARD
TZOFFSETFROM:+0100
TZOFFSETTO:+0000
TZNAME:GMT
DTSTART:20231029T020000Z
RRULE:FREQ=YEARLY;BYMONTH=10;BYDAY=-1SU
END:STANDARD
END:VTIMEZONE
BEGIN:VEVENT
SUMMARY:[TESO] услож
	ненный режим Ветеранского испытания 
	Пасть Лорхаджа (vMoL Hm)
DTSTAMP:20230226T081352Z
SEQUENCE:0
UID:11055-1-afb15bc42254ad5fb0481ce5e9c8144d@forum.bandits-clan.ru
ORGANIZER;CN="elqwero":web@bandits-clan.ru
DESCRIPTION:\n	П
	ри
	гла
	шаю
	 же
	лаю
	щих 
	прой
	ти усл
	ожненно
	е Ветера
	нского ис
	пытания Пас
	ть лорхаджа. При
	оритет на людей\, которы
	е записались в канале #vm
	ol в дискорде.\n\n\n\n	Сб
	ор начинается за
	 15 минут до начала
	. Если Вы пришли
	 после времени нача
	ла рейда\, то ваше ме
	сто может занят д
	ругой игрок.\n\n\
	n\n	Обязател
	ьные аддоны
	 необходимо наст
	роить до начала событ
	ия. Рейд будет длится
	 до 3 часов\n\n\n\n	В ре
	йд по записи бе
	рутся от звания вет
	еран бандит\, 92к д
	пс и закрытого 
	испытания vMo
	L с гильдией. Остал
	ьные рассматрива
	ются в индивидуальном порядке.
	\n\n\n\n	Необходимый состав:\n\n\n\n	\n		2 Тан
	ка\n	\n	\n		2 Лекаря\n	\n	\n		8 Бойцов\n	\
	n\n\n\n	Обязательные аддоны:\n\n\n\n	\n		RaidNotifier (h
	ttps://www.esoui.com/downloads/info1355-RaidNotifierUpdated.html)\n	\n	\n	
		OdySupportIcons (https://www.esoui.com/downloads/info2834-OdySupportIcons
	-GroupRoleIconsMore.html)\n	\n	\n		Hodor Reflexes (Необ
	ходим для горна и колосса) (https://www.esoui.com/dow
	nloads/info2311-HodorReflexes-DPSUltimateShare.html)\n	\n	\n		Code's Comba
	t Alerts (https://www.esoui.com/downloads/info1855-CodesCombatAlerts.html)
	\n	\n	\n		Improved Death Recap (https://www.esoui.com/downloads/info1319-I
	mprovedDeathRecap.html)(Для танков)\n	\n\n\n\n
		Рекомендуемые сборки:\n\n\n\n	\n		Д
	ля ДД:\n	\n\n\n\n	\n		Знать как проход
	ить порталы\n	\n\n\n\n	\n		Для хилов
	\n	\n\n\n\n	\n		Играть указанными
	 ниже классами\n	\n	\n		Найт бл
	ейд - Мародер\, СПК и симф
	ония\n	\n	\n		Варден - Йор
	вульд\, авантюрист и наплечник
	 разрушения\n	\n\n\n\n	\n		Для танко
	в\n	\n\n\n\n	\n		Играть указанными
	 ниже классами\n	\n	\n	
		Мейн(некр) - Пр
	иливная верх\, ёлнакр
	ин/саксхлил низ\, архи
	друид/сотрясатель\n	\n	\
	n		Офф(дк/варден) - Пер
	ламутр\, мощный натиск
	\, энкратис/сотрясатель\n	\n\n\n
	\n	Требования для участия:\n\n\n\n
		\n		Звание Veteran Bandit/Ветеран Бандит\n
		\n	\n		92к дпс\n	\n	\n		Закрытый триал vMoL с 
	гильдией\n	\n	\n		Discord и наличие 
	микрофона\n	\n	\n		Табард гильдии Daggerfall Bandits
	 / Bandits Clan / Bandits Force\n	\n	\n		Приобр
	етенное дополнение или ESO Pl
	us\n	\n	\n		Прочитать описан
	ие события\n	\n\n\n
	\n	Для подтверждения 
	участия необходимо 
	отметиться в календаре:\n\n\
	n\n	\n		Нажать кнопку Пойду
	\n	\n	\n		Указать свою роль и ID
	 в комментариях\n	\n	\n		Осозна
	ть\, что рейд длится 3 ч
	аса\n	\n	\n		Если по к
	аким-то причи
	нам не получи
	тся прийти\, отписаться в 
	комментариях\, изменив свое сообщение\n	\n
	\n
DTSTART:20230301T160000Z
DTEND:20230301T160500Z
ATTENDEE;CN="elqwero";CUTYPE=INDIVIDUAL;PARTSTAT=ACCEPTED:we
	b@bandits-clan.ru
ATTENDEE;CN="SchweineKotelett";CUTYPE=INDIVIDUAL;PARTSTAT=AC
	CEPTED:web@bandits-clan.ru
ATTENDEE;CN="Fillith1556";CUTYPE=INDIVIDUAL;PARTSTAT=ACCEPTE
	D:web@bandits-clan.ru
ATTENDEE;CN="Kroniak";CUTYPE=INDIVIDUAL;PARTSTAT=ACCEPTED:we
	b@bandits-clan.ru
ATTENDEE;CN="TimkaS";CUTYPE=INDIVIDUAL;PARTSTAT=ACCEPTED:web
	@bandits-clan.ru
ATTENDEE;CN="Iglair";CUTYPE=INDIVIDUAL;PARTSTAT=ACCEPTED:web
	@bandits-clan.ru
ATTENDEE;CN="vegasmoon";CUTYPE=INDIVIDUAL;PARTSTAT=ACCEPTED:
	web@bandits-clan.ru
ATTENDEE;CN="АндрейАгур";CUTYPE=INDIVIDUAL;PARTSTA
	T=ACCEPTED:web@bandits-clan.ru
ATTENDEE;CN="Deferdo";CUTYPE=INDIVIDUAL;PARTSTAT=ACCEPTED:we
	b@bandits-clan.ru
END:VEVENT
END:VCALENDAR
