BEGIN:VCALENDAR
VERSION:2.0
PRODID:-//InvisionCommunity Events 4.7.14//EN
METHOD:PUBLISH
CALSCALE:GREGORIAN
REFRESH-INTERVAL:PT15M
X-PUBLISHED-TTL:PT15M
X-WR-CALNAME:The Elder Scrolls Online
NAME:The Elder Scrolls Online
BEGIN:VTIMEZONE
TZID:Europe/London
TZURL:http://tzurl.org/zoneinfo/Europe/London
X-LIC-LOCATION:Europe/London
BEGIN:DAYLIGHT
TZOFFSETFROM:+0000
TZOFFSETTO:+0100
TZNAME:BST
DTSTART:20230326T020000Z
RRULE:FREQ=YEARLY;BYMONTH=3;BYDAY=-1SU
END:DAYLIGHT
BEGIN:STANDARD
TZOFFSETFROM:+0100
TZOFFSETTO:+0000
TZNAME:GMT
DTSTART:20231029T020000Z
RRULE:FREQ=YEARLY;BYMONTH=10;BYDAY=-1SU
END:STANDARD
END:VTIMEZONE
BEGIN:VEVENT
SUMMARY:[TESO] Ветеранское испытание Эгида
	 Кин (vKA)
DTSTAMP:20230226T075945Z
SEQUENCE:0
UID:11053-1-afb15bc42254ad5fb0481ce5e9c8144d@forum.bandits-clan.ru
ORGANIZER;CN="elqwero":web@bandits-clan.ru
DESCRIPTION:\n	Пригла
	шаю всех желающих 
	пройти Ветеранское и
	спытание Эгида Кин.\n\n
	\n\n	Сбор начинается
	 за 15 минут до нач
	ала. Если Вы пр
	ишли после врем
	ени начала рейда\, то
	 ваше место может 
	занят другой игро
	к.\n\n\n\n	Обязательн
	ые аддоны необход
	имо настроить до начала событи
	я.\n\n\n\n	Необходимый состав:\n\n\n\n	\n		2 
	Танка\n	\n	\n		2 Лекаря\n	\n	\n		8 Бойц
	ов\n	\n\n\n\n	Обязательные аддоны:\n\n\n\n	\n		RaidNot
	ifier (https://www.esoui.com/downloads/info1355-RaidNotifierUpdated.html)\
	n	\n	\n		OdySupportIcons (https://www.esoui.com/downloads/info2834-OdySupp
	ortIcons-GroupRoleIconsMore.html). Или а
	налогичные
	 аддоны (до
	бавляющие 
	иконки рол
	ей над головой пер
	сонажей и увеличенную иконку коро
	ны(рейд-лидера))\n	\n	\n		Hodor Refle
	xes (Необходим для горна и колосса) (https://www.
	esoui.com/downloads/info2311-HodorReflexes-DPSUltimateShare.html)\n	\n	\n	
		Code's Combat Alerts (https://www.esoui.com/downloads/info1855-CodesComba
	tAlerts.html)\n	\n	\n		BSCs-HowToKynesAegis (https://www.esoui.com/downloa
	ds/info3442-BSCs-HowToKynesAegis.html)\n	\n\n\n\n	Треб
	ования для участия:\n\n\n\n	\n		Звание 
	Veteran Bandit/Ветеран Бандит\n	\n	\n		Disco
	rd и наличие микрофона\n	\n	\n		Табард гильд
	ии Daggerfall Bandits / Bandits Clan / Bandits Force\n	\n	\n
			Приобретенное дополнение Greymoo
	r или ESO Plus\n	\n\n\n\n	Д
	ля подтверждения уча
	стия необходимо отмети
	ться в календаре:\n\n\n\n	\n	
		Нажать кнопку Пойду\n	\n	\
	n		Указать свою роль и ID
	 в комментариях\n	\n	\
	n		Если по каки
	м-то причинам 
	не получится п
	рийти\, отписаться в комментариях\,
	 изменив свое сообщение\n	\n\n
DTSTART:20230227T130000Z
DTEND:20230227T130500Z
ATTENDEE;CN="elqwero";CUTYPE=INDIVIDUAL;PARTSTAT=ACCEPTED:we
	b@bandits-clan.ru
ATTENDEE;CN="TimkaS";CUTYPE=INDIVIDUAL;PARTSTAT=ACCEPTED:web
	@bandits-clan.ru
ATTENDEE;CN="Fillith1556";CUTYPE=INDIVIDUAL;PARTSTAT=ACCEPTE
	D:web@bandits-clan.ru
ATTENDEE;CN="vegasmoon";CUTYPE=INDIVIDUAL;PARTSTAT=ACCEPTED:
	web@bandits-clan.ru
ATTENDEE;CN="YuraDeathEater";CUTYPE=INDIVIDUAL;PARTSTAT=ACCE
	PTED:web@bandits-clan.ru
ATTENDEE;CN="DanyTwyt";CUTYPE=INDIVIDUAL;PARTSTAT=ACCEPTED:w
	eb@bandits-clan.ru
END:VEVENT
END:VCALENDAR
